BEGIN:VCALENDAR
VERSION:2.0
PRODID:-//Gwinnett Cares - ECPv6.2.4//NONSGML v1.0//EN
CALSCALE:GREGORIAN
METHOD:PUBLISH
X-ORIGINAL-URL:https://gwinnettcares.org
X-WR-CALDESC:Events for Gwinnett Cares
REFRESH-INTERVAL;VALUE=DURATION:PT1H
X-Robots-Tag:noindex
X-PUBLISHED-TTL:PT1H
BEGIN:VTIMEZONE
TZID:America/New_York
BEGIN:DAYLIGHT
TZOFFSETFROM:-0500
TZOFFSETTO:-0400
TZNAME:EDT
DTSTART:20220313T070000
END:DAYLIGHT
BEGIN:STANDARD
TZOFFSETFROM:-0400
TZOFFSETTO:-0500
TZNAME:EST
DTSTART:20221106T060000
END:STANDARD
END:VTIMEZONE
BEGIN:VEVENT
DTSTART;TZID=America/New_York:20221018T100000
DTEND;TZID=America/New_York:20221018T160000
DTSTAMP:20260422T185936
CREATED:20221003T210521Z
LAST-MODIFIED:20221004T120018Z
UID:21976-1666087200-1666108800@gwinnettcares.org
SUMMARY:GUIDE Fundamentals of Prevention Training
DESCRIPTION:This virtual course\, approved by the Prevention Credentialing Consortium of Georgia as a Core Course\, will provide a basic foundation of substance abuse prevention knowledge that can be further expanded through ongoing prevention training and development. By the end of this workshop\, participants will: \n\nIdentify protective factors currently being used or those that will be implemented;\nIdentify one prevention process/program that represents each prevention strategy;\nIdentify risk factors;\nDetermine what works in prevention;\nDefine prevention strategies; and\nOutline historical timeline of prevention\n\nThis course occurs in two parts on Tuesday\, October 18 and Thursday\, October 20 from 10 am – 4 pm. Registrant must attend both days of webinars in order to receive credit. \nThis is one of four core courses required by the Prevention Credentialing Consortium of Georgia (PCCG) in order to earn your prevention credentials. \nRegistration for this course closes at 5 pm EST on October 11\, 2022. Learn more and register here.
URL:https://gwinnettcares.org/event/guide-fundamentals-of-prevention-training/
LOCATION:GA
CATEGORIES:General,Want to Help
ORGANIZER;CN="GUIDE":MAILTO:Training@guideinc.org
END:VEVENT
END:VCALENDAR