BEGIN:VCALENDAR
VERSION:2.0
PRODID:-//Gwinnett Cares - ECPv6.2.4//NONSGML v1.0//EN
CALSCALE:GREGORIAN
METHOD:PUBLISH
X-ORIGINAL-URL:https://gwinnettcares.org
X-WR-CALDESC:Events for Gwinnett Cares
REFRESH-INTERVAL;VALUE=DURATION:PT1H
X-Robots-Tag:noindex
X-PUBLISHED-TTL:PT1H
BEGIN:VTIMEZONE
TZID:America/New_York
BEGIN:DAYLIGHT
TZOFFSETFROM:-0500
TZOFFSETTO:-0400
TZNAME:EDT
DTSTART:20220313T070000
END:DAYLIGHT
BEGIN:STANDARD
TZOFFSETFROM:-0400
TZOFFSETTO:-0500
TZNAME:EST
DTSTART:20221106T060000
END:STANDARD
END:VTIMEZONE
BEGIN:VEVENT
DTSTART;TZID=America/New_York:20221013T080000
DTEND;TZID=America/New_York:20221013T123000
DTSTAMP:20260421T055953
CREATED:20220928T200308Z
LAST-MODIFIED:20220928T200308Z
UID:21922-1665648000-1665664200@gwinnettcares.org
SUMMARY:Connections Matter Virtual Training
DESCRIPTION:Resilient Gwinnett is offering a free virtual Connections Matter training on October 13 from 8:30 am to 12:30 pm. Licensed Counselors\, Therapists\, Clinical Social Workers\, and Law Enforcement personnel living or serving in Gwinnett can earn 4 CEUs. \nLearn more and register here: https://guideinc.wufoo.com/forms/wvbfv1h0e0xdre/ \nRegistration will close on Friday\, October 7 at 5:00 pm.
URL:https://gwinnettcares.org/event/connections-matter-virtual-training/
LOCATION:GA
CATEGORIES:Want to Help
END:VEVENT
END:VCALENDAR