BEGIN:VCALENDAR
VERSION:2.0
PRODID:-//Gwinnett Cares - ECPv6.2.4//NONSGML v1.0//EN
CALSCALE:GREGORIAN
METHOD:PUBLISH
X-WR-CALNAME:Gwinnett Cares
X-ORIGINAL-URL:https://gwinnettcares.org
X-WR-CALDESC:Events for Gwinnett Cares
REFRESH-INTERVAL;VALUE=DURATION:PT1H
X-Robots-Tag:noindex
X-PUBLISHED-TTL:PT1H
BEGIN:VTIMEZONE
TZID:America/New_York
BEGIN:DAYLIGHT
TZOFFSETFROM:-0500
TZOFFSETTO:-0400
TZNAME:EDT
DTSTART:20220313T070000
END:DAYLIGHT
BEGIN:STANDARD
TZOFFSETFROM:-0400
TZOFFSETTO:-0500
TZNAME:EST
DTSTART:20221106T060000
END:STANDARD
END:VTIMEZONE
BEGIN:VEVENT
DTSTART;TZID=America/New_York:20220616T080000
DTEND;TZID=America/New_York:20220616T163000
DTSTAMP:20260421T165538
CREATED:20220518T121222Z
LAST-MODIFIED:20220518T121222Z
UID:18337-1655366400-1655397000@gwinnettcares.org
SUMMARY:True Charity Initiative Foundations Workshop
DESCRIPTION:Atlanta area church and nonprofit leaders\, staff\, and volunteers who are involved in poverty alleviation are invited to attend this intensive workshop to dive into the principles and practices of effective charity. Based on the 7 Marks of Effective Compassion as outlined by Dr. Marvin Olasky’s groundbreaking book\, The Tragedy of American Compassion\, the event will couple dynamic presentations with opportunities for deep discussion and collaboration. Topics include: \n\nPhilosophy: What does flourishing look like for those in poverty?\nApplication: Which models and practices really work?\nImplementation: How can you incorporate these ideas into your individual context?\n\nThe workshop will take place at Christ the King Lutheran Church in Peachtree Corners. The cost of the workshop is $20\, which covers the cost of materials and lunch. For more information\, contact Amanda Fisher at amanda@truecharity.us. Register for the workshop at truecharity.us/event/atlanta.
URL:https://gwinnettcares.org/event/true-charity-initiative-foundations-workshop/
LOCATION:Christ the King Lutheran Church\, 5575 Peachtree Parkway\, Peachtree Corners\, GA\, 30092\, United States
CATEGORIES:General,Want to Help
END:VEVENT
END:VCALENDAR