BEGIN:VCALENDAR
VERSION:2.0
PRODID:-//Gwinnett Cares - ECPv6.2.4//NONSGML v1.0//EN
CALSCALE:GREGORIAN
METHOD:PUBLISH
X-ORIGINAL-URL:https://gwinnettcares.org
X-WR-CALDESC:Events for Gwinnett Cares
REFRESH-INTERVAL;VALUE=DURATION:PT1H
X-Robots-Tag:noindex
X-PUBLISHED-TTL:PT1H
BEGIN:VTIMEZONE
TZID:America/New_York
BEGIN:DAYLIGHT
TZOFFSETFROM:-0500
TZOFFSETTO:-0400
TZNAME:EDT
DTSTART:20230312T070000
END:DAYLIGHT
BEGIN:STANDARD
TZOFFSETFROM:-0400
TZOFFSETTO:-0500
TZNAME:EST
DTSTART:20231105T060000
END:STANDARD
END:VTIMEZONE
BEGIN:VEVENT
DTSTART;TZID=America/New_York:20230419T130000
DTEND;TZID=America/New_York:20230419T150000
DTSTAMP:20260421T140211
CREATED:20230217T124008Z
LAST-MODIFIED:20230217T124341Z
UID:28935-1681909200-1681916400@gwinnettcares.org
SUMMARY:QPR Suicide Prevention Training
DESCRIPTION:QPR stands for Question\, Persuade\, and Refer — the 3 simple steps anyone can learn to help save a life from suicide. The QPR Online Gatekeeper Training is taught in a clear\, concise format using the latest in educational technology and practices. \nThis is a free training and will take place virtually. Registration will close when the limit of 50 participants has been met or at 5:00 pm on Monday\, April 17 (whichever comes first). Learn more and register here.
URL:https://gwinnettcares.org/event/qpr-suicide-prevention-training-2/
LOCATION:GA
CATEGORIES:General,Want to Help
ORGANIZER;CN="GUIDE":MAILTO:Training@guideinc.org
END:VEVENT
BEGIN:VEVENT
DTSTART;TZID=America/New_York:20230425T183000
DTEND;TZID=America/New_York:20230425T193000
DTSTAMP:20260421T140211
CREATED:20230315T203813Z
LAST-MODIFIED:20230315T203813Z
UID:29447-1682447400-1682451000@gwinnettcares.org
SUMMARY:Foster Parent Information Session: Gwinnett County Library Lawrenceville Branch
DESCRIPTION:The Georgia Division of Family and Children Services will hold a foster parent information session at the Gwinnett County Public Library Lawrenceville branch on April 25 from 6:30 to 7:30 pm. In this session\, attendees will learn general information about foster care and how to become a foster parent\, as well as ask questions. \nLearn more and register on the library website.
URL:https://gwinnettcares.org/event/foster-parent-information-session-gwinnett-county-library-lawrenceville-branch/
LOCATION:Gwinnett County Public Library Lawrenceville Branch\, 1001 Lawrenceville Highway\, Lawrenceville\, GA\, 30044\, United States
CATEGORIES:General,Want to Help
END:VEVENT
END:VCALENDAR