BEGIN:VCALENDAR
VERSION:2.0
PRODID:-//Gwinnett Cares - ECPv6.2.4//NONSGML v1.0//EN
CALSCALE:GREGORIAN
METHOD:PUBLISH
X-WR-CALNAME:Gwinnett Cares
X-ORIGINAL-URL:https://gwinnettcares.org
X-WR-CALDESC:Events for Gwinnett Cares
REFRESH-INTERVAL;VALUE=DURATION:PT1H
X-Robots-Tag:noindex
X-PUBLISHED-TTL:PT1H
BEGIN:VTIMEZONE
TZID:America/New_York
BEGIN:DAYLIGHT
TZOFFSETFROM:-0500
TZOFFSETTO:-0400
TZNAME:EDT
DTSTART:20220313T070000
END:DAYLIGHT
BEGIN:STANDARD
TZOFFSETFROM:-0400
TZOFFSETTO:-0500
TZNAME:EST
DTSTART:20221106T060000
END:STANDARD
END:VTIMEZONE
BEGIN:VEVENT
DTSTART;TZID=America/New_York:20221001T133000
DTEND;TZID=America/New_York:20221001T163000
DTSTAMP:20260421T180258
CREATED:20220928T181148Z
LAST-MODIFIED:20220928T181148Z
UID:21894-1664631000-1664641800@gwinnettcares.org
SUMMARY:Lilburn Activity Building Neighborhood Cleanup
DESCRIPTION:Help keep our community beautiful! Join Lilburn Activity Building (LAB) staff for a neighborhood cleanup around the LAB located at 788 Hillcrest Road\, Lilburn on October 1 from 1:30 – 4:30 PM.
URL:https://gwinnettcares.org/event/lilburn-activity-building-neighborhood-cleanup/
LOCATION:Lilburn Activity Building\, 788 Hillcrest Rd NW\, Lilburn\, GA\, 30047\, United States
CATEGORIES:Want to Help
END:VEVENT
BEGIN:VEVENT
DTSTART;TZID=America/New_York:20221008T100000
DTEND;TZID=America/New_York:20221008T110000
DTSTAMP:20260421T180258
CREATED:20220708T204508Z
LAST-MODIFIED:20220708T204508Z
UID:21240-1665223200-1665226800@gwinnettcares.org
SUMMARY:Free Narcan Training
DESCRIPTION:Navigate Recovery\, GNR Public Health\, and Georgia Overdose Prevention will hold free Narcan training classes each Saturday. Participants will learn how to use Narcan\, a drug used to reverse the effects of opioid overdose\, and receive a Narcan Nasal Spray kit. \nClasses will take place at Navigate Recovery in Lawrenceville. Changes in community health status could result in classes being offered virtually. \nIf you have questions\, call 678-743-1808 ext. 115 or email events@navigaterecovery.org. \nTo register\, visit qrco.de/bcvMqk.
URL:https://gwinnettcares.org/event/free-narcan-training-2022-10-08/
LOCATION:Navigate Recovery\, 52 Gwinnett Drive\, Suite A\, Lawrenceville\, GA\, 30046\, United States
CATEGORIES:Want to Help
END:VEVENT
BEGIN:VEVENT
DTSTART;TZID=America/New_York:20221013T080000
DTEND;TZID=America/New_York:20221013T123000
DTSTAMP:20260421T180258
CREATED:20220928T200308Z
LAST-MODIFIED:20220928T200308Z
UID:21922-1665648000-1665664200@gwinnettcares.org
SUMMARY:Connections Matter Virtual Training
DESCRIPTION:Resilient Gwinnett is offering a free virtual Connections Matter training on October 13 from 8:30 am to 12:30 pm. Licensed Counselors\, Therapists\, Clinical Social Workers\, and Law Enforcement personnel living or serving in Gwinnett can earn 4 CEUs. \nLearn more and register here: https://guideinc.wufoo.com/forms/wvbfv1h0e0xdre/ \nRegistration will close on Friday\, October 7 at 5:00 pm.
URL:https://gwinnettcares.org/event/connections-matter-virtual-training/
LOCATION:GA
CATEGORIES:Want to Help
END:VEVENT
BEGIN:VEVENT
DTSTART;TZID=America/New_York:20221015T100000
DTEND;TZID=America/New_York:20221015T110000
DTSTAMP:20260421T180258
CREATED:20220708T204516Z
LAST-MODIFIED:20220708T204516Z
UID:21241-1665828000-1665831600@gwinnettcares.org
SUMMARY:Free Narcan Training
DESCRIPTION:Navigate Recovery\, GNR Public Health\, and Georgia Overdose Prevention will hold free Narcan training classes each Saturday. Participants will learn how to use Narcan\, a drug used to reverse the effects of opioid overdose\, and receive a Narcan Nasal Spray kit. \nClasses will take place at Navigate Recovery in Lawrenceville. Changes in community health status could result in classes being offered virtually. \nIf you have questions\, call 678-743-1808 ext. 115 or email events@navigaterecovery.org. \nTo register\, visit qrco.de/bcvMqk.
URL:https://gwinnettcares.org/event/free-narcan-training-2022-10-15/
LOCATION:Navigate Recovery\, 52 Gwinnett Drive\, Suite A\, Lawrenceville\, GA\, 30046\, United States
CATEGORIES:Want to Help
END:VEVENT
BEGIN:VEVENT
DTSTART;TZID=America/New_York:20221018T100000
DTEND;TZID=America/New_York:20221018T160000
DTSTAMP:20260421T180258
CREATED:20221003T210521Z
LAST-MODIFIED:20221004T120018Z
UID:21976-1666087200-1666108800@gwinnettcares.org
SUMMARY:GUIDE Fundamentals of Prevention Training
DESCRIPTION:This virtual course\, approved by the Prevention Credentialing Consortium of Georgia as a Core Course\, will provide a basic foundation of substance abuse prevention knowledge that can be further expanded through ongoing prevention training and development. By the end of this workshop\, participants will: \n\nIdentify protective factors currently being used or those that will be implemented;\nIdentify one prevention process/program that represents each prevention strategy;\nIdentify risk factors;\nDetermine what works in prevention;\nDefine prevention strategies; and\nOutline historical timeline of prevention\n\nThis course occurs in two parts on Tuesday\, October 18 and Thursday\, October 20 from 10 am – 4 pm. Registrant must attend both days of webinars in order to receive credit. \nThis is one of four core courses required by the Prevention Credentialing Consortium of Georgia (PCCG) in order to earn your prevention credentials. \nRegistration for this course closes at 5 pm EST on October 11\, 2022. Learn more and register here.
URL:https://gwinnettcares.org/event/guide-fundamentals-of-prevention-training/
LOCATION:GA
CATEGORIES:General,Want to Help
ORGANIZER;CN="GUIDE":MAILTO:Training@guideinc.org
END:VEVENT
BEGIN:VEVENT
DTSTART;TZID=America/New_York:20221020T100000
DTEND;TZID=America/New_York:20221020T160000
DTSTAMP:20260421T180258
CREATED:20221003T210521Z
LAST-MODIFIED:20221004T120019Z
UID:21979-1666260000-1666281600@gwinnettcares.org
SUMMARY:GUIDE Fundamentals of Prevention Training
DESCRIPTION:This virtual course\, approved by the Prevention Credentialing Consortium of Georgia as a Core Course\, will provide a basic foundation of substance abuse prevention knowledge that can be further expanded through ongoing prevention training and development. By the end of this workshop\, participants will: \n\nIdentify protective factors currently being used or those that will be implemented;\nIdentify one prevention process/program that represents each prevention strategy;\nIdentify risk factors;\nDetermine what works in prevention;\nDefine prevention strategies; and\nOutline historical timeline of prevention\n\nThis course occurs in two parts on Tuesday\, October 18 and Thursday\, October 20 from 10 am – 4 pm. Registrant must attend both days of webinars in order to receive credit. \nThis is one of four core courses required by the Prevention Credentialing Consortium of Georgia (PCCG) in order to earn your prevention credentials. \nRegistration for this course closes at 5 pm EST on October 11\, 2022. Learn more and register here.
URL:https://gwinnettcares.org/event/guide-fundamentals-of-prevention-training-2022-10-20/
LOCATION:GA
CATEGORIES:General,Want to Help
ORGANIZER;CN="GUIDE":MAILTO:Training@guideinc.org
END:VEVENT
BEGIN:VEVENT
DTSTART;TZID=America/New_York:20221022T100000
DTEND;TZID=America/New_York:20221022T110000
DTSTAMP:20260421T180258
CREATED:20220708T204516Z
LAST-MODIFIED:20220708T204516Z
UID:21242-1666432800-1666436400@gwinnettcares.org
SUMMARY:Free Narcan Training
DESCRIPTION:Navigate Recovery\, GNR Public Health\, and Georgia Overdose Prevention will hold free Narcan training classes each Saturday. Participants will learn how to use Narcan\, a drug used to reverse the effects of opioid overdose\, and receive a Narcan Nasal Spray kit. \nClasses will take place at Navigate Recovery in Lawrenceville. Changes in community health status could result in classes being offered virtually. \nIf you have questions\, call 678-743-1808 ext. 115 or email events@navigaterecovery.org. \nTo register\, visit qrco.de/bcvMqk.
URL:https://gwinnettcares.org/event/free-narcan-training-2022-10-22/
LOCATION:Navigate Recovery\, 52 Gwinnett Drive\, Suite A\, Lawrenceville\, GA\, 30046\, United States
CATEGORIES:Want to Help
END:VEVENT
BEGIN:VEVENT
DTSTART;TZID=America/New_York:20221027T100000
DTEND;TZID=America/New_York:20221027T110000
DTSTAMP:20260421T180258
CREATED:20220429T182554Z
LAST-MODIFIED:20220429T182554Z
UID:16484-1666864800-1666868400@gwinnettcares.org
SUMMARY:Virtual Dementia Tour: Peachtree Christian Health
DESCRIPTION:Peachtree Christian Health invites members of the community to participate in a virtual dementia tour (VDT) to better understand what people living with dementia experience daily in their lives. Trained facilitators guide participants outfitted with patented devices that alter their senses while they try to complete common everyday tasks and exercises. The Tour enables caregivers to experience for themselves the physical and mental challenges those with dementia face\, and use the experience to provide better person-centered care. \nThe reality is that when dementia strikes\, it strikes the whole community\, not just the individual. The VDT is a great way for members of the community to have a glimpse into the world of dementia and then develop their own recommendations for their business\, family\, or anywhere that dementia is experienced. Appropriate participants include first responders\, local businesses\, community groups\, houses of worship\, etc. \nTours are offered on the last Thursday of each month now through October 27\, 2022. Walk-ins are welcome but appointments are encouraged. Call 770-624-2727 to schedule your VDT.
URL:https://gwinnettcares.org/event/virtual-dementia-tour-peachtree-christian-health-2022-10-27/
LOCATION:Peachtree Christian Health\, 3430 Duluth Park Lane\, Duluth\, GA\, United States
CATEGORIES:Want to Help
END:VEVENT
BEGIN:VEVENT
DTSTART;TZID=America/New_York:20221029T100000
DTEND;TZID=America/New_York:20221029T110000
DTSTAMP:20260421T180258
CREATED:20220708T204517Z
LAST-MODIFIED:20220708T204517Z
UID:21243-1667037600-1667041200@gwinnettcares.org
SUMMARY:Free Narcan Training
DESCRIPTION:Navigate Recovery\, GNR Public Health\, and Georgia Overdose Prevention will hold free Narcan training classes each Saturday. Participants will learn how to use Narcan\, a drug used to reverse the effects of opioid overdose\, and receive a Narcan Nasal Spray kit. \nClasses will take place at Navigate Recovery in Lawrenceville. Changes in community health status could result in classes being offered virtually. \nIf you have questions\, call 678-743-1808 ext. 115 or email events@navigaterecovery.org. \nTo register\, visit qrco.de/bcvMqk.
URL:https://gwinnettcares.org/event/free-narcan-training-2022-10-29/
LOCATION:Navigate Recovery\, 52 Gwinnett Drive\, Suite A\, Lawrenceville\, GA\, 30046\, United States
CATEGORIES:Want to Help
END:VEVENT
END:VCALENDAR