BEGIN:VCALENDAR
VERSION:2.0
PRODID:-//Gwinnett Cares - ECPv6.2.4//NONSGML v1.0//EN
CALSCALE:GREGORIAN
METHOD:PUBLISH
X-WR-CALNAME:Gwinnett Cares
X-ORIGINAL-URL:https://gwinnettcares.org
X-WR-CALDESC:Events for Gwinnett Cares
REFRESH-INTERVAL;VALUE=DURATION:PT1H
X-Robots-Tag:noindex
X-PUBLISHED-TTL:PT1H
BEGIN:VTIMEZONE
TZID:America/New_York
BEGIN:DAYLIGHT
TZOFFSETFROM:-0500
TZOFFSETTO:-0400
TZNAME:EDT
DTSTART:20220313T070000
END:DAYLIGHT
BEGIN:STANDARD
TZOFFSETFROM:-0400
TZOFFSETTO:-0500
TZNAME:EST
DTSTART:20221106T060000
END:STANDARD
END:VTIMEZONE
BEGIN:VEVENT
DTSTART;TZID=America/New_York:20220903T100000
DTEND;TZID=America/New_York:20220903T110000
DTSTAMP:20260420T194811
CREATED:20220708T204506Z
LAST-MODIFIED:20220708T204506Z
UID:21237-1662199200-1662202800@gwinnettcares.org
SUMMARY:Free Narcan Training
DESCRIPTION:Navigate Recovery\, GNR Public Health\, and Georgia Overdose Prevention will hold free Narcan training classes each Saturday. Participants will learn how to use Narcan\, a drug used to reverse the effects of opioid overdose\, and receive a Narcan Nasal Spray kit. \nClasses will take place at Navigate Recovery in Lawrenceville. Changes in community health status could result in classes being offered virtually. \nIf you have questions\, call 678-743-1808 ext. 115 or email events@navigaterecovery.org. \nTo register\, visit qrco.de/bcvMqk.
URL:https://gwinnettcares.org/event/free-narcan-training-2022-09-03/
LOCATION:Navigate Recovery\, 52 Gwinnett Drive\, Suite A\, Lawrenceville\, GA\, 30046\, United States
CATEGORIES:Want to Help
END:VEVENT
BEGIN:VEVENT
DTSTART;TZID=America/New_York:20220910T100000
DTEND;TZID=America/New_York:20220910T110000
DTSTAMP:20260420T194811
CREATED:20220708T204507Z
LAST-MODIFIED:20220708T204507Z
UID:21238-1662804000-1662807600@gwinnettcares.org
SUMMARY:Free Narcan Training
DESCRIPTION:Navigate Recovery\, GNR Public Health\, and Georgia Overdose Prevention will hold free Narcan training classes each Saturday. Participants will learn how to use Narcan\, a drug used to reverse the effects of opioid overdose\, and receive a Narcan Nasal Spray kit. \nClasses will take place at Navigate Recovery in Lawrenceville. Changes in community health status could result in classes being offered virtually. \nIf you have questions\, call 678-743-1808 ext. 115 or email events@navigaterecovery.org. \nTo register\, visit qrco.de/bcvMqk.
URL:https://gwinnettcares.org/event/free-narcan-training-2022-09-10/
LOCATION:Navigate Recovery\, 52 Gwinnett Drive\, Suite A\, Lawrenceville\, GA\, 30046\, United States
CATEGORIES:Want to Help
END:VEVENT
BEGIN:VEVENT
DTSTART;TZID=America/New_York:20220917T100000
DTEND;TZID=America/New_York:20220917T110000
DTSTAMP:20260420T194811
CREATED:20220708T204508Z
LAST-MODIFIED:20220708T204508Z
UID:21239-1663408800-1663412400@gwinnettcares.org
SUMMARY:Free Narcan Training
DESCRIPTION:Navigate Recovery\, GNR Public Health\, and Georgia Overdose Prevention will hold free Narcan training classes each Saturday. Participants will learn how to use Narcan\, a drug used to reverse the effects of opioid overdose\, and receive a Narcan Nasal Spray kit. \nClasses will take place at Navigate Recovery in Lawrenceville. Changes in community health status could result in classes being offered virtually. \nIf you have questions\, call 678-743-1808 ext. 115 or email events@navigaterecovery.org. \nTo register\, visit qrco.de/bcvMqk.
URL:https://gwinnettcares.org/event/free-narcan-training-2022-09-17/
LOCATION:Navigate Recovery\, 52 Gwinnett Drive\, Suite A\, Lawrenceville\, GA\, 30046\, United States
CATEGORIES:Want to Help
END:VEVENT
BEGIN:VEVENT
DTSTART;TZID=America/New_York:20220928T173000
DTEND;TZID=America/New_York:20220928T193000
DTSTAMP:20260420T194811
CREATED:20220928T171035Z
LAST-MODIFIED:20220928T171035Z
UID:21890-1664386200-1664393400@gwinnettcares.org
SUMMARY:QPR and NARCAN Training: Gwinnett County Sheriff's Office
DESCRIPTION:You can save a life! Learn how to use the Question\, Persuade\, Refer (QPR) method to intervene and help a person in a suicide crisis. A free training session will be held from 5:30 to 7:30 pm at the Gwinnett County Sheriff’s Office in Lawrenceville. Attendees will also learn the signs of opioid overdose and how to use NARCAN.
URL:https://gwinnettcares.org/event/qpr-and-narcan-training-gwinnett-county-sheriffs-office/
LOCATION:Gwinnett County Sheriff’s Office\, 2900 University Parkway\, Lawrenceville\, 30043\, United States
CATEGORIES:Want to Help
END:VEVENT
BEGIN:VEVENT
DTSTART;TZID=America/New_York:20220929T100000
DTEND;TZID=America/New_York:20220929T110000
DTSTAMP:20260420T194811
CREATED:20220429T182554Z
LAST-MODIFIED:20220429T182554Z
UID:16483-1664445600-1664449200@gwinnettcares.org
SUMMARY:Virtual Dementia Tour: Peachtree Christian Health
DESCRIPTION:Peachtree Christian Health invites members of the community to participate in a virtual dementia tour (VDT) to better understand what people living with dementia experience daily in their lives. Trained facilitators guide participants outfitted with patented devices that alter their senses while they try to complete common everyday tasks and exercises. The Tour enables caregivers to experience for themselves the physical and mental challenges those with dementia face\, and use the experience to provide better person-centered care. \nThe reality is that when dementia strikes\, it strikes the whole community\, not just the individual. The VDT is a great way for members of the community to have a glimpse into the world of dementia and then develop their own recommendations for their business\, family\, or anywhere that dementia is experienced. Appropriate participants include first responders\, local businesses\, community groups\, houses of worship\, etc. \nTours are offered on the last Thursday of each month now through October 27\, 2022. Walk-ins are welcome but appointments are encouraged. Call 770-624-2727 to schedule your VDT.
URL:https://gwinnettcares.org/event/virtual-dementia-tour-peachtree-christian-health-2022-09-29/
LOCATION:Peachtree Christian Health\, 3430 Duluth Park Lane\, Duluth\, GA\, United States
CATEGORIES:Want to Help
END:VEVENT
END:VCALENDAR