BEGIN:VCALENDAR
VERSION:2.0
PRODID:-//Gwinnett Cares - ECPv6.2.4//NONSGML v1.0//EN
CALSCALE:GREGORIAN
METHOD:PUBLISH
X-ORIGINAL-URL:https://gwinnettcares.org
X-WR-CALDESC:Events for Gwinnett Cares
REFRESH-INTERVAL;VALUE=DURATION:PT1H
X-Robots-Tag:noindex
X-PUBLISHED-TTL:PT1H
BEGIN:VTIMEZONE
TZID:America/New_York
BEGIN:DAYLIGHT
TZOFFSETFROM:-0500
TZOFFSETTO:-0400
TZNAME:EDT
DTSTART:20230312T070000
END:DAYLIGHT
BEGIN:STANDARD
TZOFFSETFROM:-0400
TZOFFSETTO:-0500
TZNAME:EST
DTSTART:20231105T060000
END:STANDARD
END:VTIMEZONE
BEGIN:VEVENT
DTSTART;TZID=America/New_York:20230623T110000
DTEND;TZID=America/New_York:20230623T130000
DTSTAMP:20260424T074916
CREATED:20230504T120028Z
LAST-MODIFIED:20230504T120028Z
UID:30534-1687518000-1687525200@gwinnettcares.org
SUMMARY:Free Summer Grab-and-Go Meals: Club Drive Park
DESCRIPTION:Free summer grab-and-go meals are available Monday through Friday to children ages 18 and under or those ages 19 and older with physical or mental impairments. Meals are available from 11:00 am to 1:00 pm while supplies last. \nFor more information and additional locations\, visit GwinnettSummerMeals.com. \nIf you’re interested in volunteering for the Summer Meals program\, visit VolunteerGwinnett.net.
URL:https://gwinnettcares.org/event/free-summer-grab-and-go-meals-club-drive-park-2023-06-23/
LOCATION:Club Drive Park\, 3330 Club Drive\, Lawrenceville\, GA\, 30044\, United States
CATEGORIES:Food Resources
END:VEVENT
BEGIN:VEVENT
DTSTART;TZID=America/New_York:20230623T110000
DTEND;TZID=America/New_York:20230623T130000
DTSTAMP:20260424T074916
CREATED:20230504T120334Z
LAST-MODIFIED:20230504T120423Z
UID:30626-1687518000-1687525200@gwinnettcares.org
SUMMARY:Free Summer Grab-and-Go Meals: Rhodes Jordan Park - Multipurpose Field
DESCRIPTION:Free summer grab-and-go meals are available Monday through Friday to children ages 18 and under or those ages 19 and older with physical or mental impairments. Meals are available from 11:00 am to 1:00 pm while supplies last. \nFor more information and additional locations\, visit GwinnettSummerMeals.com. \nIf you’re interested in volunteering for the Summer Meals program\, visit VolunteerGwinnett.net.
URL:https://gwinnettcares.org/event/free-summer-grab-and-go-meals-rhodes-jordan-park-multipurpose-field-2023-06-23/
LOCATION:Rhodes Jordan Park\, 100 East Crogan Street\, Lawrenceville\, GA\, 30046\, United States
CATEGORIES:Food Resources
END:VEVENT
BEGIN:VEVENT
DTSTART;TZID=America/New_York:20230623T110000
DTEND;TZID=America/New_York:20230623T130000
DTSTAMP:20260424T074916
CREATED:20230504T121002Z
LAST-MODIFIED:20230504T121002Z
UID:30693-1687518000-1687525200@gwinnettcares.org
SUMMARY:Free Summer Grab-and-Go Meals: Sweet Water Park
DESCRIPTION:Free summer grab-and-go meals are available Monday through Friday to children ages 18 and under or those ages 19 and older with physical or mental impairments. Meals are available from 11:00 am to 1:00 pm while supplies last. \nFor more information and additional locations\, visit GwinnettSummerMeals.com. \nIf you’re interested in volunteering for the Summer Meals program\, visit VolunteerGwinnett.net.
URL:https://gwinnettcares.org/event/free-summer-grab-and-go-meals-sweet-water-park-2023-06-23/
LOCATION:Sweet Water Park\, 800 Bethesda School Road\, Lawrenceville\, GA\, 30044\, United States
CATEGORIES:Food Resources
END:VEVENT
BEGIN:VEVENT
DTSTART;TZID=America/New_York:20230623T110000
DTEND;TZID=America/New_York:20230623T130000
DTSTAMP:20260424T074916
CREATED:20230504T121544Z
LAST-MODIFIED:20230504T121544Z
UID:30740-1687518000-1687525200@gwinnettcares.org
SUMMARY:Free Summer Grab-and-Go Meals: Bryson Park
DESCRIPTION:Free summer grab-and-go meals are available Monday through Friday to children ages 18 and under or those ages 19 and older with physical or mental impairments. Meals are available from 11:00 am to 1:00 pm while supplies last. \nFor more information and additional locations\, visit GwinnettSummerMeals.com. \nIf you’re interested in volunteering for the Summer Meals program\, visit VolunteerGwinnett.net.
URL:https://gwinnettcares.org/event/free-summer-grab-and-go-meals-bryson-park-2023-06-23/
LOCATION:Bryson Park\, 5075 Lawrenceville Highway\, Lilburn\, GA\, 30047\, United States
CATEGORIES:Food Resources
END:VEVENT
BEGIN:VEVENT
DTSTART;TZID=America/New_York:20230623T110000
DTEND;TZID=America/New_York:20230623T130000
DTSTAMP:20260424T074916
CREATED:20230504T121757Z
LAST-MODIFIED:20230504T121757Z
UID:30783-1687518000-1687525200@gwinnettcares.org
SUMMARY:Free Summer Grab-and-Go Meals: Lilburn Activity Building
DESCRIPTION:Free summer grab-and-go meals are available Monday through Friday to children ages 18 and under or those ages 19 and older with physical or mental impairments. Meals are available from 11:00 am to 1:00 pm while supplies last. \nFor more information and additional locations\, visit GwinnettSummerMeals.com. \nIf you’re interested in volunteering for the Summer Meals program\, visit VolunteerGwinnett.net.
URL:https://gwinnettcares.org/event/free-summer-grab-and-go-meals-lilburn-activity-building-2023-06-23/
LOCATION:Lilburn Activity Building\, 788 Hillcrest Rd NW\, Lilburn\, GA\, 30047\, United States
CATEGORIES:Food Resources
END:VEVENT
BEGIN:VEVENT
DTSTART;TZID=America/New_York:20230623T110000
DTEND;TZID=America/New_York:20230623T130000
DTSTAMP:20260424T074916
CREATED:20230504T122056Z
LAST-MODIFIED:20230504T122056Z
UID:30830-1687518000-1687525200@gwinnettcares.org
SUMMARY:Free Summer Grab-and-Go Meals: Freeman's Mill Park
DESCRIPTION:Free summer grab-and-go meals are available Monday through Friday to children ages 18 and under or those ages 19 and older with physical or mental impairments. Meals are available from 11:00 am to 1:00 pm while supplies last. \nFor more information and additional locations\, visit GwinnettSummerMeals.com. \nIf you’re interested in volunteering for the Summer Meals program\, visit VolunteerGwinnett.net.
URL:https://gwinnettcares.org/event/free-summer-grab-and-go-meals-freemans-mill-park-2023-06-23/
LOCATION:Freeman’s Mill Park\, 1401 Alcovy Road\, Lawrenceville\, GA\, 30045\, United States
CATEGORIES:Food Resources
END:VEVENT
BEGIN:VEVENT
DTSTART;TZID=America/New_York:20230623T110000
DTEND;TZID=America/New_York:20230623T130000
DTSTAMP:20260424T074916
CREATED:20230504T122347Z
LAST-MODIFIED:20230504T122347Z
UID:30877-1687518000-1687525200@gwinnettcares.org
SUMMARY:Free Summer Grab-and-Go Meals: Mountain Park Park Depot
DESCRIPTION:Free summer grab-and-go meals are available Monday through Friday to children ages 18 and under or those ages 19 and older with physical or mental impairments. Meals are available from 11:00 am to 1:00 pm while supplies last. \nFor more information and additional locations\, visit GwinnettSummerMeals.com. \nIf you’re interested in volunteering for the Summer Meals program\, visit VolunteerGwinnett.net.
URL:https://gwinnettcares.org/event/free-summer-grab-and-go-meals-mountain-park-park-depot-2023-06-23/
LOCATION:Mountain Park Park Depot\, 5050 Five Forks Trickum Rd SW\, Lilburn\, GA\, 30047\, United States
CATEGORIES:Food Resources
END:VEVENT
BEGIN:VEVENT
DTSTART;TZID=America/New_York:20230623T110000
DTEND;TZID=America/New_York:20230623T130000
DTSTAMP:20260424T074916
CREATED:20230504T122606Z
LAST-MODIFIED:20230504T122606Z
UID:30924-1687518000-1687525200@gwinnettcares.org
SUMMARY:Free Summer Grab-and-Go Meals: Vines Park
DESCRIPTION:Free summer grab-and-go meals are available Monday through Friday to children ages 18 and under or those ages 19 and older with physical or mental impairments. Meals are available from 11:00 am to 1:00 pm while supplies last. \nFor more information and additional locations\, visit GwinnettSummerMeals.com. \nIf you’re interested in volunteering for the Summer Meals program\, visit VolunteerGwinnett.net.
URL:https://gwinnettcares.org/event/free-summer-grab-and-go-meals-vines-park-2023-06-23/
LOCATION:Vines Park\, 3500 Oak Grove Road\, Loganville\, GA\, 30052\, United States
CATEGORIES:Food Resources
END:VEVENT
BEGIN:VEVENT
DTSTART;TZID=America/New_York:20230623T110000
DTEND;TZID=America/New_York:20230623T130000
DTSTAMP:20260424T074916
CREATED:20230504T122915Z
LAST-MODIFIED:20230504T122915Z
UID:30971-1687518000-1687525200@gwinnettcares.org
SUMMARY:Free Summer Grab-and-Go Meals: Best Friend Park Gym
DESCRIPTION:Free summer grab-and-go meals are available Monday through Friday to children ages 18 and under or those ages 19 and older with physical or mental impairments. Meals are available from 11:00 am to 1:00 pm while supplies last. \nFor more information and additional locations\, visit GwinnettSummerMeals.com. \nIf you’re interested in volunteering for the Summer Meals program\, visit VolunteerGwinnett.net.
URL:https://gwinnettcares.org/event/free-summer-grab-and-go-meals-best-friend-park-gym-2023-06-23/
LOCATION:Best Friend Park\, 6224 Jimmy Carter Boulevard\, Norcross\, GA\, 30071\, United States
CATEGORIES:Food Resources
END:VEVENT
BEGIN:VEVENT
DTSTART;TZID=America/New_York:20230623T110000
DTEND;TZID=America/New_York:20230623T130000
DTSTAMP:20260424T074916
CREATED:20230504T123129Z
LAST-MODIFIED:20230504T123129Z
UID:31018-1687518000-1687525200@gwinnettcares.org
SUMMARY:Free Summer Grab-and-Go Meals: Graves Park
DESCRIPTION:Free summer grab-and-go meals are available Monday through Friday to children ages 18 and under or those ages 19 and older with physical or mental impairments. Meals are available from 11:00 am to 1:00 pm while supplies last. \nFor more information and additional locations\, visit GwinnettSummerMeals.com. \nIf you’re interested in volunteering for the Summer Meals program\, visit VolunteerGwinnett.net.
URL:https://gwinnettcares.org/event/free-summer-grab-and-go-meals-graves-park-2023-06-23/
LOCATION:Graves Park\, 1540 Graves Road\, Norcross\, GA\, 30093\, United States
CATEGORIES:Food Resources
END:VEVENT
BEGIN:VEVENT
DTSTART;TZID=America/New_York:20230623T110000
DTEND;TZID=America/New_York:20230623T130000
DTSTAMP:20260424T074916
CREATED:20230504T123626Z
LAST-MODIFIED:20230504T123626Z
UID:31112-1687518000-1687525200@gwinnettcares.org
SUMMARY:Free Summer Grab-and-Go Meals: Lenora Park Gym
DESCRIPTION:Free summer grab-and-go meals are available Monday through Friday to children ages 18 and under or those ages 19 and older with physical or mental impairments. Meals are available from 11:00 am to 1:00 pm while supplies last. \nFor more information and additional locations\, visit GwinnettSummerMeals.com. \nIf you’re interested in volunteering for the Summer Meals program\, visit VolunteerGwinnett.net.
URL:https://gwinnettcares.org/event/free-summer-grab-and-go-meals-lenora-park-gym-2023-06-23/
LOCATION:Lenora Park\, 4515 Lenora Church Road\, Snellville\, GA\, 30039\, United States
CATEGORIES:Food Resources
END:VEVENT
BEGIN:VEVENT
DTSTART;TZID=America/New_York:20230623T110000
DTEND;TZID=America/New_York:20230623T130000
DTSTAMP:20260424T074916
CREATED:20230504T123927Z
LAST-MODIFIED:20230504T123927Z
UID:31159-1687518000-1687525200@gwinnettcares.org
SUMMARY:Free Summer Grab-and-Go Meals: OneStop Centerville
DESCRIPTION:Free summer grab-and-go meals are available Monday through Friday to children ages 18 and under or those ages 19 and older with physical or mental impairments. Meals are available from 11:00 am to 1:00 pm while supplies last. \nFor more information and additional locations\, visit GwinnettSummerMeals.com. \nIf you’re interested in volunteering for the Summer Meals program\, visit VolunteerGwinnett.net.
URL:https://gwinnettcares.org/event/free-summer-grab-and-go-meals-onestop-centerville-2023-06-23/
LOCATION:OneStop Centerville\, 3025 Bethany Church Rd\, Snellville\, GA\, 30039\, United States
CATEGORIES:Food Resources
END:VEVENT
BEGIN:VEVENT
DTSTART;TZID=America/New_York:20230623T110000
DTEND;TZID=America/New_York:20230623T130000
DTSTAMP:20260424T074916
CREATED:20230504T124340Z
LAST-MODIFIED:20230504T124340Z
UID:31206-1687518000-1687525200@gwinnettcares.org
SUMMARY:Free Summer Grab-and-Go Meals: DeShong Park
DESCRIPTION:Free summer grab-and-go meals are available Monday through Friday to children ages 18 and under or those ages 19 and older with physical or mental impairments. Meals are available from 11:00 am to 1:00 pm while supplies last. \nFor more information and additional locations\, visit GwinnettSummerMeals.com. \nIf you’re interested in volunteering for the Summer Meals program\, visit VolunteerGwinnett.net.
URL:https://gwinnettcares.org/event/free-summer-grab-and-go-meals-deshong-park-2023-06-23/
LOCATION:DeShong Park\, 2859 North DeShong Rd\, Stone Mountain\, GA\, 30087\, United States
CATEGORIES:Food Resources
END:VEVENT
BEGIN:VEVENT
DTSTART;TZID=America/New_York:20230623T110000
DTEND;TZID=America/New_York:20230623T130000
DTSTAMP:20260424T074916
CREATED:20230504T124624Z
LAST-MODIFIED:20230504T124624Z
UID:31253-1687518000-1687525200@gwinnettcares.org
SUMMARY:Free Summer Grab-and-Go Meals: George Pierce Park Community Recreation Center
DESCRIPTION:Free summer grab-and-go meals are available Monday through Friday to children ages 18 and under or those ages 19 and older with physical or mental impairments. Meals are available from 11:00 am to 1:00 pm while supplies last. \nFor more information and additional locations\, visit GwinnettSummerMeals.com. \nIf you’re interested in volunteering for the Summer Meals program\, visit VolunteerGwinnett.net.
URL:https://gwinnettcares.org/event/free-summer-grab-and-go-meals-george-pierce-park-community-recreation-center-2023-06-23/
LOCATION:George Pierce Park\, 55 Buford Highway NE\, Suwanee\, GA\, 30024\, United States
CATEGORIES:Food Resources
END:VEVENT
BEGIN:VEVENT
DTSTART;TZID=America/New_York:20230624T080000
DTEND;TZID=America/New_York:20230624T103000
DTSTAMP:20260424T074916
CREATED:20230106T184931Z
LAST-MODIFIED:20230106T184931Z
UID:28131-1687593600-1687602600@gwinnettcares.org
SUMMARY:Drive-Thru Food Service: The Pantry at Hamilton Mill UMC
DESCRIPTION:Drive-thru food service is available on Saturdays at The Pantry at Hamilton Mill UMC from 8:00 to 10:30 am. Learn more here.
URL:https://gwinnettcares.org/event/drive-thru-food-service-the-pantry-at-hamilton-mill-umc-5-2023-06-24/
LOCATION:The Pantry at Hamilton Mill UMC\, 1450 Pine Road\, Dacula\, GA\, 30019\, United States
CATEGORIES:Food Resources
END:VEVENT
BEGIN:VEVENT
DTSTART;TZID=America/New_York:20230624T120000
DTEND;TZID=America/New_York:20230624T140000
DTSTAMP:20260424T074916
CREATED:20230106T190204Z
LAST-MODIFIED:20230106T190204Z
UID:28284-1687608000-1687615200@gwinnettcares.org
SUMMARY:Drive-Thru & Choice Pop-Up Food Pantry: Overcomers House
DESCRIPTION:Overcomers House offers a drive-thru food pantry in Snellville on Mondays and Saturdays from noon-2:00 pm and a Choice Pop-Up Pantry on Wednesdays\, also from noon-2:00 pm. \nDuring the drive-thru food pantry\, a number will be placed on each client’s car and a staff member will collect any necessary information. As numbers are called\, clients will drive to the designated point where a staff member will place the food box in the car. \nDuring the Choice Pop-Up Pantry\, clients will make their own boxes. \nID is required. One box per household. Register in advance here.
URL:https://gwinnettcares.org/event/drive-thru-choice-pop-up-food-pantry-overcomers-house-2023-06-24/
LOCATION:Overcomers House\, 2114 Fountain Square\, Snellville\, GA\, 30078\, United States
CATEGORIES:Food Resources
END:VEVENT
BEGIN:VEVENT
DTSTART;TZID=America/New_York:20230625T110000
DTEND;TZID=America/New_York:20230625T140000
DTSTAMP:20260424T074916
CREATED:20230317T122612Z
LAST-MODIFIED:20230317T122612Z
UID:29470-1687690800-1687701600@gwinnettcares.org
SUMMARY:El Rey Jesus Georgia Food Pantry
DESCRIPTION:The El Rey Jesus Georgia food pantry is open on Sundays from 11:00 am to 2:00 pm.
URL:https://gwinnettcares.org/event/el-rey-jesus-georgia-food-pantry-2023-06-25/
LOCATION:El Rey Jesus Georgia\, 5555 Oakbrook Parkway\, Suite 100\, Norcross\, GA\, 30093\, United States
CATEGORIES:Food Resources
END:VEVENT
BEGIN:VEVENT
DTSTART;TZID=America/New_York:20230626T110000
DTEND;TZID=America/New_York:20230626T130000
DTSTAMP:20260424T074916
CREATED:20230503T121038Z
LAST-MODIFIED:20230503T121038Z
UID:30326-1687777200-1687784400@gwinnettcares.org
SUMMARY:Free Summer Grab-and-Go Meals: Pinckneyville Park Community Recreation Center
DESCRIPTION:Free summer grab-and-go meals are available Monday through Friday to children ages 18 and under or those ages 19 and older with physical or mental impairments. Meals are available from 11:00 am to 1:00 pm while supplies last. \nFor more information and additional locations\, visit GwinnettSummerMeals.com. \nIf you’re interested in volunteering for the Summer Meals program\, visit VolunteerGwinnett.net.
URL:https://gwinnettcares.org/event/free-summer-grab-and-go-meals-pinckneyville-park-community-recreation-center-2023-06-26/
LOCATION:Pinckneyville Park Community Recreation Center\, 4650 Peachtree Industrial Boulevard\, Berkeley Lake\, GA\, 30096\, United States
CATEGORIES:Food Resources
END:VEVENT
BEGIN:VEVENT
DTSTART;TZID=America/New_York:20230626T110000
DTEND;TZID=America/New_York:20230626T130000
DTSTAMP:20260424T074916
CREATED:20230503T121312Z
LAST-MODIFIED:20230503T121312Z
UID:30280-1687777200-1687784400@gwinnettcares.org
SUMMARY:Free Summer Grab-and-Go Meals: Bogan Park Community Recreation Center
DESCRIPTION:Free summer grab-and-go meals are available Monday through Friday to children ages 18 and under or those ages 19 and older with physical or mental impairments. Meals are available from 11:00 am to 1:00 pm while supplies last. \nFor more information and additional locations\, visit GwinnettSummerMeals.com. \nIf you’re interested in volunteering for the Summer Meals program\, visit VolunteerGwinnett.net.
URL:https://gwinnettcares.org/event/free-summer-grab-and-go-meals-bogan-park-community-recreation-center-2023-06-26/
LOCATION:Bogan Park\, 2723 North Bogan Rd\, Buford\, GA\, 30519\, United States
CATEGORIES:Food Resources
END:VEVENT
BEGIN:VEVENT
DTSTART;TZID=America/New_York:20230626T110000
DTEND;TZID=America/New_York:20230626T130000
DTSTAMP:20260424T074916
CREATED:20230503T121649Z
LAST-MODIFIED:20230503T121649Z
UID:30372-1687777200-1687784400@gwinnettcares.org
SUMMARY:Free Summer Grab-and-Go Meals: Gwinnett Environmental & Heritage Center
DESCRIPTION:Free summer grab-and-go meals are available Monday through Friday to children ages 18 and under or those ages 19 and older with physical or mental impairments. Meals are available from 11:00 am to 1:00 pm while supplies last. \nFor more information and additional locations\, visit GwinnettSummerMeals.com. \nIf you’re interested in volunteering for the Summer Meals program\, visit VolunteerGwinnett.net.
URL:https://gwinnettcares.org/event/free-summer-grab-and-go-meals-gwinnett-environmental-heritage-center-2023-06-26/
LOCATION:Gwinnett Environmental & Heritage Center\, 2020 Clean Water Dr.\, Buford\, GA\, 30519\, United States
CATEGORIES:Food Resources
END:VEVENT
BEGIN:VEVENT
DTSTART;TZID=America/New_York:20230626T110000
DTEND;TZID=America/New_York:20230626T130000
DTSTAMP:20260424T074916
CREATED:20230503T121948Z
LAST-MODIFIED:20230503T121948Z
UID:30431-1687777200-1687784400@gwinnettcares.org
SUMMARY:Free Summer Grab-and-Go Meals: OneStop Buford
DESCRIPTION:Free summer grab-and-go meals are available Monday through Friday to children ages 18 and under or those ages 19 and older with physical or mental impairments. Meals are available from 11:00 am to 1:00 pm while supplies last. \nFor more information and additional locations\, visit GwinnettSummerMeals.com. \nIf you’re interested in volunteering for the Summer Meals program\, visit VolunteerGwinnett.net.
URL:https://gwinnettcares.org/event/free-summer-grab-and-go-meals-onestop-buford-2023-06-26/
LOCATION:OneStop Buford\, 2755 Sawnee Ave.\, Buford\, GA\, 30518\, United States
CATEGORIES:Food Resources
END:VEVENT
BEGIN:VEVENT
DTSTART;TZID=America/New_York:20230626T110000
DTEND;TZID=America/New_York:20230626T130000
DTSTAMP:20260424T074916
CREATED:20230503T122531Z
LAST-MODIFIED:20230503T122531Z
UID:30441-1687777200-1687784400@gwinnettcares.org
SUMMARY:Free Summer Grab-and-Go Meals: Dacula Park Activity Building
DESCRIPTION:Free summer grab-and-go meals are available Monday through Friday to children ages 18 and under or those ages 19 and older with physical or mental impairments. Meals are available from 11:00 am to 1:00 pm while supplies last. \nFor more information and additional locations\, visit GwinnettSummerMeals.com. \nIf you’re interested in volunteering for the Summer Meals program\, visit VolunteerGwinnett.net.
URL:https://gwinnettcares.org/event/free-summer-grab-and-go-meals-dacula-park-activity-building-2023-06-26/
LOCATION:Dacula Park Activity Building\, 2735 Auburn Ave.\, Dacula\, GA\, 30019\, United States
CATEGORIES:Food Resources
END:VEVENT
BEGIN:VEVENT
DTSTART;TZID=America/New_York:20230626T110000
DTEND;TZID=America/New_York:20230626T130000
DTSTAMP:20260424T074916
CREATED:20230503T122830Z
LAST-MODIFIED:20230503T122830Z
UID:30488-1687777200-1687784400@gwinnettcares.org
SUMMARY:Free Summer Grab-and-Go Meals: Shorty Howell Park Activity Building
DESCRIPTION:Free summer grab-and-go meals are available Monday through Friday to children ages 18 and under or those ages 19 and older with physical or mental impairments. Meals are available from 11:00 am to 1:00 pm while supplies last. \nFor more information and additional locations\, visit GwinnettSummerMeals.com. \nIf you’re interested in volunteering for the Summer Meals program\, visit VolunteerGwinnett.net.
URL:https://gwinnettcares.org/event/free-summer-grab-and-go-meals-shorty-howell-park-activity-building-2023-06-26/
LOCATION:Shorty Howell Park\, 2750 Pleasant Hill Road\, Duluth\, GA\, 30096\, United States
CATEGORIES:Food Resources
END:VEVENT
BEGIN:VEVENT
DTSTART;TZID=America/New_York:20230626T110000
DTEND;TZID=America/New_York:20230626T130000
DTSTAMP:20260424T074916
CREATED:20230504T120028Z
LAST-MODIFIED:20230504T120028Z
UID:30535-1687777200-1687784400@gwinnettcares.org
SUMMARY:Free Summer Grab-and-Go Meals: Club Drive Park
DESCRIPTION:Free summer grab-and-go meals are available Monday through Friday to children ages 18 and under or those ages 19 and older with physical or mental impairments. Meals are available from 11:00 am to 1:00 pm while supplies last. \nFor more information and additional locations\, visit GwinnettSummerMeals.com. \nIf you’re interested in volunteering for the Summer Meals program\, visit VolunteerGwinnett.net.
URL:https://gwinnettcares.org/event/free-summer-grab-and-go-meals-club-drive-park-2023-06-26/
LOCATION:Club Drive Park\, 3330 Club Drive\, Lawrenceville\, GA\, 30044\, United States
CATEGORIES:Food Resources
END:VEVENT
BEGIN:VEVENT
DTSTART;TZID=America/New_York:20230626T110000
DTEND;TZID=America/New_York:20230626T130000
DTSTAMP:20260424T074916
CREATED:20230504T120334Z
LAST-MODIFIED:20230504T120423Z
UID:30627-1687777200-1687784400@gwinnettcares.org
SUMMARY:Free Summer Grab-and-Go Meals: Rhodes Jordan Park - Multipurpose Field
DESCRIPTION:Free summer grab-and-go meals are available Monday through Friday to children ages 18 and under or those ages 19 and older with physical or mental impairments. Meals are available from 11:00 am to 1:00 pm while supplies last. \nFor more information and additional locations\, visit GwinnettSummerMeals.com. \nIf you’re interested in volunteering for the Summer Meals program\, visit VolunteerGwinnett.net.
URL:https://gwinnettcares.org/event/free-summer-grab-and-go-meals-rhodes-jordan-park-multipurpose-field-2023-06-26/
LOCATION:Rhodes Jordan Park\, 100 East Crogan Street\, Lawrenceville\, GA\, 30046\, United States
CATEGORIES:Food Resources
END:VEVENT
BEGIN:VEVENT
DTSTART;TZID=America/New_York:20230626T110000
DTEND;TZID=America/New_York:20230626T130000
DTSTAMP:20260424T074916
CREATED:20230504T121002Z
LAST-MODIFIED:20230504T121002Z
UID:30694-1687777200-1687784400@gwinnettcares.org
SUMMARY:Free Summer Grab-and-Go Meals: Sweet Water Park
DESCRIPTION:Free summer grab-and-go meals are available Monday through Friday to children ages 18 and under or those ages 19 and older with physical or mental impairments. Meals are available from 11:00 am to 1:00 pm while supplies last. \nFor more information and additional locations\, visit GwinnettSummerMeals.com. \nIf you’re interested in volunteering for the Summer Meals program\, visit VolunteerGwinnett.net.
URL:https://gwinnettcares.org/event/free-summer-grab-and-go-meals-sweet-water-park-2023-06-26/
LOCATION:Sweet Water Park\, 800 Bethesda School Road\, Lawrenceville\, GA\, 30044\, United States
CATEGORIES:Food Resources
END:VEVENT
BEGIN:VEVENT
DTSTART;TZID=America/New_York:20230626T110000
DTEND;TZID=America/New_York:20230626T130000
DTSTAMP:20260424T074916
CREATED:20230504T121544Z
LAST-MODIFIED:20230504T121544Z
UID:30741-1687777200-1687784400@gwinnettcares.org
SUMMARY:Free Summer Grab-and-Go Meals: Bryson Park
DESCRIPTION:Free summer grab-and-go meals are available Monday through Friday to children ages 18 and under or those ages 19 and older with physical or mental impairments. Meals are available from 11:00 am to 1:00 pm while supplies last. \nFor more information and additional locations\, visit GwinnettSummerMeals.com. \nIf you’re interested in volunteering for the Summer Meals program\, visit VolunteerGwinnett.net.
URL:https://gwinnettcares.org/event/free-summer-grab-and-go-meals-bryson-park-2023-06-26/
LOCATION:Bryson Park\, 5075 Lawrenceville Highway\, Lilburn\, GA\, 30047\, United States
CATEGORIES:Food Resources
END:VEVENT
BEGIN:VEVENT
DTSTART;TZID=America/New_York:20230626T110000
DTEND;TZID=America/New_York:20230626T130000
DTSTAMP:20260424T074916
CREATED:20230504T121757Z
LAST-MODIFIED:20230504T121757Z
UID:30784-1687777200-1687784400@gwinnettcares.org
SUMMARY:Free Summer Grab-and-Go Meals: Lilburn Activity Building
DESCRIPTION:Free summer grab-and-go meals are available Monday through Friday to children ages 18 and under or those ages 19 and older with physical or mental impairments. Meals are available from 11:00 am to 1:00 pm while supplies last. \nFor more information and additional locations\, visit GwinnettSummerMeals.com. \nIf you’re interested in volunteering for the Summer Meals program\, visit VolunteerGwinnett.net.
URL:https://gwinnettcares.org/event/free-summer-grab-and-go-meals-lilburn-activity-building-2023-06-26/
LOCATION:Lilburn Activity Building\, 788 Hillcrest Rd NW\, Lilburn\, GA\, 30047\, United States
CATEGORIES:Food Resources
END:VEVENT
BEGIN:VEVENT
DTSTART;TZID=America/New_York:20230626T110000
DTEND;TZID=America/New_York:20230626T130000
DTSTAMP:20260424T074916
CREATED:20230504T122056Z
LAST-MODIFIED:20230504T122056Z
UID:30831-1687777200-1687784400@gwinnettcares.org
SUMMARY:Free Summer Grab-and-Go Meals: Freeman's Mill Park
DESCRIPTION:Free summer grab-and-go meals are available Monday through Friday to children ages 18 and under or those ages 19 and older with physical or mental impairments. Meals are available from 11:00 am to 1:00 pm while supplies last. \nFor more information and additional locations\, visit GwinnettSummerMeals.com. \nIf you’re interested in volunteering for the Summer Meals program\, visit VolunteerGwinnett.net.
URL:https://gwinnettcares.org/event/free-summer-grab-and-go-meals-freemans-mill-park-2023-06-26/
LOCATION:Freeman’s Mill Park\, 1401 Alcovy Road\, Lawrenceville\, GA\, 30045\, United States
CATEGORIES:Food Resources
END:VEVENT
BEGIN:VEVENT
DTSTART;TZID=America/New_York:20230626T110000
DTEND;TZID=America/New_York:20230626T130000
DTSTAMP:20260424T074916
CREATED:20230504T122347Z
LAST-MODIFIED:20230504T122347Z
UID:30878-1687777200-1687784400@gwinnettcares.org
SUMMARY:Free Summer Grab-and-Go Meals: Mountain Park Park Depot
DESCRIPTION:Free summer grab-and-go meals are available Monday through Friday to children ages 18 and under or those ages 19 and older with physical or mental impairments. Meals are available from 11:00 am to 1:00 pm while supplies last. \nFor more information and additional locations\, visit GwinnettSummerMeals.com. \nIf you’re interested in volunteering for the Summer Meals program\, visit VolunteerGwinnett.net.
URL:https://gwinnettcares.org/event/free-summer-grab-and-go-meals-mountain-park-park-depot-2023-06-26/
LOCATION:Mountain Park Park Depot\, 5050 Five Forks Trickum Rd SW\, Lilburn\, GA\, 30047\, United States
CATEGORIES:Food Resources
END:VEVENT
END:VCALENDAR