BEGIN:VCALENDAR
VERSION:2.0
PRODID:-//Gwinnett Cares - ECPv6.2.4//NONSGML v1.0//EN
CALSCALE:GREGORIAN
METHOD:PUBLISH
X-WR-CALNAME:Gwinnett Cares
X-ORIGINAL-URL:https://gwinnettcares.org
X-WR-CALDESC:Events for Gwinnett Cares
REFRESH-INTERVAL;VALUE=DURATION:PT1H
X-Robots-Tag:noindex
X-PUBLISHED-TTL:PT1H
BEGIN:VTIMEZONE
TZID:America/New_York
BEGIN:DAYLIGHT
TZOFFSETFROM:-0500
TZOFFSETTO:-0400
TZNAME:EDT
DTSTART:20220313T070000
END:DAYLIGHT
BEGIN:STANDARD
TZOFFSETFROM:-0400
TZOFFSETTO:-0500
TZNAME:EST
DTSTART:20221106T060000
END:STANDARD
BEGIN:DAYLIGHT
TZOFFSETFROM:-0500
TZOFFSETTO:-0400
TZNAME:EDT
DTSTART:20230312T070000
END:DAYLIGHT
BEGIN:STANDARD
TZOFFSETFROM:-0400
TZOFFSETTO:-0500
TZNAME:EST
DTSTART:20231105T060000
END:STANDARD
END:VTIMEZONE
BEGIN:VEVENT
DTSTART;TZID=America/New_York:20230522T090000
DTEND;TZID=America/New_York:20230522T120000
DTSTAMP:20260424T010401
CREATED:20230331T154116Z
LAST-MODIFIED:20230331T154116Z
UID:29584-1684746000-1684756800@gwinnettcares.org
SUMMARY:Gwinnett Job Connection Event: OneStop Norcross
DESCRIPTION:Georgia Center for Opportunity will hold Job Connection Events at OneStop Norcross on April 24 and May 22. Both events will take place from 9:00 am to noon.
URL:https://gwinnettcares.org/event/gwinnett-job-connection-event-onestop-norcross-2023-05-22/
LOCATION:OneStop Norcross\, 5030 Georgia Belle Court\, Norcross\, GA\, 30093\, United States
CATEGORIES:Employment Support
END:VEVENT
BEGIN:VEVENT
DTSTART;TZID=America/New_York:20230426T100000
DTEND;TZID=America/New_York:20230426T120000
DTSTAMP:20260424T010401
CREATED:20230331T154246Z
LAST-MODIFIED:20230403T115206Z
UID:29585-1682503200-1682510400@gwinnettcares.org
SUMMARY:Gwinnett Job Connection Event: Neighborhood Cooperative Ministries
DESCRIPTION:Georgia Center for Opportunity will hold a Job Connection Event at Neighborhood Cooperative Ministries on April 26 from 100:00 am to noon.
URL:https://gwinnettcares.org/event/gwinnett-job-connection-event-neighborhood-cooperative-ministries/
LOCATION:Neighborhood Co-op\, 500 Pinnacle Court\, Suite 510\, Norcross\, GA\, 30071\, United States
CATEGORIES:Employment Support
END:VEVENT
BEGIN:VEVENT
DTSTART;TZID=America/New_York:20230424T090000
DTEND;TZID=America/New_York:20230424T120000
DTSTAMP:20260424T010401
CREATED:20230331T154116Z
LAST-MODIFIED:20230331T154116Z
UID:29581-1682326800-1682337600@gwinnettcares.org
SUMMARY:Gwinnett Job Connection Event: OneStop Norcross
DESCRIPTION:Georgia Center for Opportunity will hold Job Connection Events at OneStop Norcross on April 24 and May 22. Both events will take place from 9:00 am to noon.
URL:https://gwinnettcares.org/event/gwinnett-job-connection-event-onestop-norcross/
LOCATION:OneStop Norcross\, 5030 Georgia Belle Court\, Norcross\, GA\, 30093\, United States
CATEGORIES:Employment Support
END:VEVENT
BEGIN:VEVENT
DTSTART;TZID=America/New_York:20230421T090000
DTEND;TZID=America/New_York:20230421T120000
DTSTAMP:20260424T010401
CREATED:20230331T153854Z
LAST-MODIFIED:20230331T153854Z
UID:29579-1682067600-1682078400@gwinnettcares.org
SUMMARY:Gwinnett Job Connection Event: Lawrenceville Cooperative Ministries
DESCRIPTION:Georgia Center for Opportunity will hold a Job Connection Event at Lawrenceville Cooperative Ministries on April 21 from 9:00 am to noon.
URL:https://gwinnettcares.org/event/gwinnett-job-connection-event-lawrenceville-cooperative-ministries/
LOCATION:Lawrenceville Co-Op\, 52 Gwinnett Drive\, Suite C\, Lawrenceville\, GA\, 30046\, United States
CATEGORIES:Employment Support
END:VEVENT
BEGIN:VEVENT
DTSTART;TZID=America/New_York:20230420T100000
DTEND;TZID=America/New_York:20230420T130000
DTSTAMP:20260424T010402
CREATED:20230412T131841Z
LAST-MODIFIED:20230412T131841Z
UID:30054-1681984800-1681995600@gwinnettcares.org
SUMMARY:Job Fair at the Latin American Association Headquarters
DESCRIPTION:The Latin American Association (LAA) will hold a job fair at its headquarters on April 20 from 10:00 am to 1:00 pm. Organizations from various industries will be hiring candidates in person. Candidates may upload their resumes in advance to the LAA job bank at https://jobbank.thelaa.org/. \nTo register for the LAA career fair\, visit https://form.jotform.com/222056413868155. \nVolunteers from Truist Bank\, in partnership with the LAA\, will be available via Zoom to assist candidates in creating or updating their resumes on Thursday\, April 13\, from 10:00 am to 1:00 pm and 4:00 to 6:00 pm. Attendees will receive an electronic copy of their resumes at the conclusion of assistance. \nRegister here for LAA Online Résumé Day\, in Partnership with Truist Bank:\nhttps://form.jotform.com/230324883925157 \n\nLa Asociación Latinoamericana (LAA) realizará una feria de empleo en su sede el 20 de abril de 10:00 am a 1:00 pm. Organizaciones de diversas industrias contratarán candidatos en persona. Los candidatos pueden subir sus currículums por adelantado a la bolsa de trabajo de LAA en https://jobbank.thelaa.org/. \nInscríbete aquí para la Feria de empleo\, Evento en persona:\nhttps://form.jotform.com/222056413868155 \nVoluntarios de Truist Bank\, en colaboración con la Asociación Latinoamericana\, estarán disponibles en línea (Zoom) para ofrecerte asistencia personalizada con tu résumé jueves\, el 13 de abril\, 10:00 a.m. — 1:00 p.m. y 4:00 p.m. – 6:00 p.m. Recibirás una copia electrónica de tu résumé al concluir la asistencia personalizada. \nInscríbete aquí para el Día del Résumé Virtual de la LAA\, en Asociación con Truist Bank:\nhttps://form.jotform.com/230324883925157
URL:https://gwinnettcares.org/event/job-fair-latin-american-association/
LOCATION:Latin American Association\, 2750 Buford Highway NE\, Atlanta\, GA\, 30324\, United States
CATEGORIES:Employment Support
END:VEVENT
BEGIN:VEVENT
DTSTART;TZID=America/New_York:20230419T100000
DTEND;TZID=America/New_York:20230419T140000
DTSTAMP:20260424T010402
CREATED:20230412T133557Z
LAST-MODIFIED:20230412T133557Z
UID:30076-1681898400-1681912800@gwinnettcares.org
SUMMARY:Employment & Resource Fair: Gwinnett One Stop Career Center
DESCRIPTION:WorkSource Atlanta Regional will hold an Employment and Resource Fair on April 19 from 10:00 am to 2:00 pm at the Gwinnett One Stop Career Center. Don’t miss this opportunity to listen to local partners in the community who will share valuable resources that you and your family need and learn about employment opportunities. \nParticipating employers include: \n— Job Corps\n— Hearts to Nourish Hope (Youth Services)\n— Workforce Investment Act (WIOA)\n— AARP Foundation\n— TTEC\n— Rudiso Enterprises\, Inc.\n— MARTA\n— Department of Juvenile Justice \nThis event will be held in person and is free to attend.
URL:https://gwinnettcares.org/event/employment-resource-fair-gwinnett-one-stop-career-center/
LOCATION:Gwinnett One Stop Career Center\, 3885 Crestwood Parkway\, Suite 200\, Duluth\, GA\, 30096\, United States
CATEGORIES:Employment Support
END:VEVENT
BEGIN:VEVENT
DTSTART;TZID=America/New_York:20230418T183000
DTEND;TZID=America/New_York:20230418T203000
DTSTAMP:20260424T010402
CREATED:20230412T132629Z
LAST-MODIFIED:20230412T132629Z
UID:30063-1681842600-1681849800@gwinnettcares.org
SUMMARY:Career Fair: Berean Christian Church Gwinnett
DESCRIPTION:A career fair will be held at Berean Christian Church Gwinnett on April 18 from 6:30 to 8:30 pm. Masks are optional.
URL:https://gwinnettcares.org/event/career-fair-berean-christian-church-gwinnett/
LOCATION:Berean Christian Church Gwinnett\, 1465 Highpoint Road\, Snellville\, GA\, 30078\, United States
CATEGORIES:Employment Support
END:VEVENT
BEGIN:VEVENT
DTSTART;TZID=America/New_York:20230330T100000
DTEND;TZID=America/New_York:20230330T140000
DTSTAMP:20260424T010402
CREATED:20230216T132451Z
LAST-MODIFIED:20230328T113459Z
UID:28925-1680170400-1680184800@gwinnettcares.org
SUMMARY:Goodwill Job Fair: New Mercies Christian Church
DESCRIPTION:The Job Readiness Team at New Mercies Christian Church has partnered with the Goodwill of North Georgia Career Navigation Team to bring hiring opportunities to the community on March 30\, 2023\, from 10:00 am to 2:00 pm. A variety of employers will be onsite to conduct interviews for their openings. \nParticipants can also learn how to gain access to the Goodwill Career services and coaching sessions and can take advantage of resume writing\, interviewing skills\, computer proficiency\, and many more gainful employment skills. \nGwinnett Coalition’s Health Equity Navigators will be on-site to help educate and connect attendees to vaccine resources\, as many employers require COVID-19 vaccines. \nLearn more at https://newmerciesnow.org/events/job-resource-fair/.
URL:https://gwinnettcares.org/event/goodwill-job-fair-new-mercies-christian-church/
LOCATION:New Mercies Christian Church\, 4000 Five Forks Trickum Rd SW\, Lilburn\, GA\, 30047\, United States
CATEGORIES:Employment Support
END:VEVENT
BEGIN:VEVENT
DTSTART;TZID=America/New_York:20230317T090000
DTEND;TZID=America/New_York:20230317T150000
DTSTAMP:20260424T010402
CREATED:20230210T132237Z
LAST-MODIFIED:20230210T132237Z
UID:28894-1679043600-1679065200@gwinnettcares.org
SUMMARY:Career From Here Hiring Event
DESCRIPTION:Start your career with Gwinnett County Government at the annual Career From Here hiring event on Friday\, March 17 from 9:00 am to 5:00 pm at the Gas South Convention Center in Duluth. Candidates will have the opportunity to interview with County representatives\, review their resumes with the Department of Human Resources\, and meet current employees to learn how they can thrive in a variety of fields. \nVisit GwinnettCountyJobs.com to learn about opportunities with Gwinnett and apply.
URL:https://gwinnettcares.org/event/career-from-here-hiring-event/
LOCATION:Gas South Convention Center\, 6400 Sugarloaf Parkway\, Duluth\, GA\, 30097\, United States
CATEGORIES:Employment Support
END:VEVENT
BEGIN:VEVENT
DTSTART;TZID=America/New_York:20230215T100000
DTEND;TZID=America/New_York:20230215T120000
DTSTAMP:20260424T010402
CREATED:20230131T205058Z
LAST-MODIFIED:20230131T205058Z
UID:28824-1676455200-1676462400@gwinnettcares.org
SUMMARY:Department of Community Supervision-Reentry Division Resource Fair
DESCRIPTION:The Department of Community Supervision-Reentry Division will hold a resource fair event on February 15 at 10:00 am. The event will take place at 595 Old Norcross Road in Suite B. See the flyer below for a list of vendors.
URL:https://gwinnettcares.org/event/department-of-community-supervision-reentry-division-resource-fair/
LOCATION:595 Old Norcross Road\, Suite B\, 595 Old Norcross Road\, Suite B\, Lawrenceville\, GA\, 30046\, United States
CATEGORIES:Employment Support
END:VEVENT
BEGIN:VEVENT
DTSTART;TZID=America/New_York:20221116T100000
DTEND;TZID=America/New_York:20221116T120000
DTSTAMP:20260424T010402
CREATED:20221109T194026Z
LAST-MODIFIED:20221109T194026Z
UID:22272-1668592800-1668600000@gwinnettcares.org
SUMMARY:Better Work Gwinnett Job Fair
DESCRIPTION:Better Work Gwinnett\, Georgia Center for Opportunity\, and Neighborhood Cooperative Ministries will host a job fair on Wednesday\, November 16 from 10:00 am to noon. Connect with dozens of local employers to hear about open positions. \nThe event is first-come\, first-served. Representatives that speak English and Spanish will be available. The event will take place at Neighborhood Co-op at 500 Pinnacle Court\, Suite 510 in Norcross. \nLearn more or apply at BetterWorkGwinnett.org. \n \n 
URL:https://gwinnettcares.org/event/better-work-gwinnett-job-fair/
LOCATION:Neighborhood Cooperative Ministries\, 500 Pinnacle Court\, Suite 510\, Norcross\, GA\, 30071\, United States
CATEGORIES:Employment Support
END:VEVENT
BEGIN:VEVENT
DTSTART;TZID=America/New_York:20220915T100000
DTEND;TZID=America/New_York:20220915T140000
DTSTAMP:20260424T010402
CREATED:20220826T113329Z
LAST-MODIFIED:20220826T113329Z
UID:21558-1663236000-1663250400@gwinnettcares.org
SUMMARY:Gwinnett Reentry Job Fair
DESCRIPTION:The Georgia Department of Community Supervision will hold the Gwinnett Reentry Job Fair on September 15\, 2022. The event will begin at 10 am and will take place at 595 Old Norcross Road\, Suite B. Employers scheduled to be at the event include Chilis\, Express Employment Professionals\, First Step Staffing\, Grease Monkey\, and Safe Staffing. Gwinnett Cares will be at the event to share resources as well.
URL:https://gwinnettcares.org/event/gwinnett-reentry-job-fair/
LOCATION:595 Old Norcross Road\, Suite B\, 595 Old Norcross Road\, Suite B\, Lawrenceville\, GA\, 30046\, United States
CATEGORIES:Employment Support
END:VEVENT
BEGIN:VEVENT
DTSTART;TZID=America/New_York:20220215T100000
DTEND;TZID=America/New_York:20220215T110000
DTSTAMP:20260424T010402
CREATED:20220211T012044Z
LAST-MODIFIED:20220211T012044Z
UID:14388-1644919200-1644922800@gwinnettcares.org
SUMMARY:Webinar: Supporting Jobseekers and Employees for Career Success
DESCRIPTION:Metro Atlanta Industry Partnerships’ (MAIP) monthly webinar will focus on employment support\, job search preparation\, and wrap-around services for job seekers and employees. The event will feature partners from Atlanta Center for Self Sufficiency (ACSS)\, GEEARS\, Literacy Action\, and WorkSource Atlanta. Register here.
URL:https://gwinnettcares.org/event/webinar-supporting-jobseekers-and-employees-for-career-success/
LOCATION:GA
CATEGORIES:Employment Support,General
END:VEVENT
END:VCALENDAR