BEGIN:VCALENDAR
VERSION:2.0
PRODID:-//Gwinnett Cares - ECPv6.2.4//NONSGML v1.0//EN
CALSCALE:GREGORIAN
METHOD:PUBLISH
X-WR-CALNAME:Gwinnett Cares
X-ORIGINAL-URL:https://gwinnettcares.org
X-WR-CALDESC:Events for Gwinnett Cares
REFRESH-INTERVAL;VALUE=DURATION:PT1H
X-Robots-Tag:noindex
X-PUBLISHED-TTL:PT1H
BEGIN:VTIMEZONE
TZID:America/New_York
BEGIN:DAYLIGHT
TZOFFSETFROM:-0500
TZOFFSETTO:-0400
TZNAME:EDT
DTSTART:20220313T070000
END:DAYLIGHT
BEGIN:STANDARD
TZOFFSETFROM:-0400
TZOFFSETTO:-0500
TZNAME:EST
DTSTART:20221106T060000
END:STANDARD
END:VTIMEZONE
BEGIN:VEVENT
DTSTART;TZID=America/New_York:20220616T080000
DTEND;TZID=America/New_York:20220616T163000
DTSTAMP:20260420T134219
CREATED:20220518T121222Z
LAST-MODIFIED:20220518T121222Z
UID:18337-1655366400-1655397000@gwinnettcares.org
SUMMARY:True Charity Initiative Foundations Workshop
DESCRIPTION:Atlanta area church and nonprofit leaders\, staff\, and volunteers who are involved in poverty alleviation are invited to attend this intensive workshop to dive into the principles and practices of effective charity. Based on the 7 Marks of Effective Compassion as outlined by Dr. Marvin Olasky’s groundbreaking book\, The Tragedy of American Compassion\, the event will couple dynamic presentations with opportunities for deep discussion and collaboration. Topics include: \n\nPhilosophy: What does flourishing look like for those in poverty?\nApplication: Which models and practices really work?\nImplementation: How can you incorporate these ideas into your individual context?\n\nThe workshop will take place at Christ the King Lutheran Church in Peachtree Corners. The cost of the workshop is $20\, which covers the cost of materials and lunch. For more information\, contact Amanda Fisher at amanda@truecharity.us. Register for the workshop at truecharity.us/event/atlanta.
URL:https://gwinnettcares.org/event/true-charity-initiative-foundations-workshop/
LOCATION:Christ the King Lutheran Church\, 5575 Peachtree Parkway\, Peachtree Corners\, GA\, 30092\, United States
CATEGORIES:General,Want to Help
END:VEVENT
BEGIN:VEVENT
DTSTART;TZID=America/New_York:20220531T190000
DTEND;TZID=America/New_York:20220531T210000
DTSTAMP:20260420T134219
CREATED:20220518T115733Z
LAST-MODIFIED:20220518T115733Z
UID:18336-1654023600-1654030800@gwinnettcares.org
SUMMARY:Lunchbox: An Original Play by Asian Student Alliance
DESCRIPTION:Lunchbox is an original play written by Asian Student Alliance (ASA) students based on their lived experiences. The narrative centers on the daily joys and hardships of four Asian American high school students. The purpose of the play is to educate the non-Asian American community and spread awareness about some of the shared experiences of Asian American youth today. This is an excellent opportunity for school districts\, governmental and community-based organizations\, and corporations who wish to expand their diversity and inclusion educational opportunities for their employees.  \nStudents have followed a rigorous process encompassing the entire school year to conceptualize\, write\, edit\, perform\, and prepare Lunchbox for their communities. Lunchbox will be performed at the Lawrenceville Art Center from May 27th to May 31st in honor and celebration of AANHPI Heritage Month. Lunchbox will be one hour in length\, followed by a 45-minute discussion facilitated by ASA students. There are 8 shows in total\, each with limited seating. Tickets are on sale now until May 23rd for $25\, and prices rise to $30. Tickets can be purchased online at auroratheatre.com.  \n\nFri\, May 27th 4pm & 7pm \nSat\, May 28th 4pm & 7pm\nSun\, May 29th 2pm & 6pm\nMon\, May 30th 7pm\nTue\, May 31st 7pm\n\nAbout ASA: Asian Student Alliance (ASA) is a 501C3 non-profit student-led organization in metropolitan Atlanta\, including the following counties: Barrow\, Dekalb\, Fulton\, Forsyth\, Gwinnett\, and Walton. ASA was created in the wake of the racially-motivated Atlanta area Spa Shootings\, in order to reduce anti-Asian racism through education and leadership. Asians are the least represented racial group in all areas of leadership in the United States today. The purpose of ASA is to raise leadership capacity among Asian American youth through a student-centered approach\, developing positive intersectional identities\, navigating immigrant family dynamics\, building coalitions\, and increasing knowledge of Asian Americans in U.S. history. 
URL:https://gwinnettcares.org/event/lunchbox-an-original-play-by-asian-student-alliance-2022-05-31/
LOCATION:Lawrenceville Arts Center\, 125 N Clayton Street\, Lawrenceville\, GA\, 30046\, United States
CATEGORIES:General
ORGANIZER;CN="Asian Student Alliance":MAILTO:asianstudentalliance.org@gmail.com
END:VEVENT
BEGIN:VEVENT
DTSTART;TZID=America/New_York:20220529T180000
DTEND;TZID=America/New_York:20220529T200000
DTSTAMP:20260420T134219
CREATED:20220518T115733Z
LAST-MODIFIED:20220518T115733Z
UID:18335-1653847200-1653854400@gwinnettcares.org
SUMMARY:Lunchbox: An Original Play by Asian Student Alliance
DESCRIPTION:Lunchbox is an original play written by Asian Student Alliance (ASA) students based on their lived experiences. The narrative centers on the daily joys and hardships of four Asian American high school students. The purpose of the play is to educate the non-Asian American community and spread awareness about some of the shared experiences of Asian American youth today. This is an excellent opportunity for school districts\, governmental and community-based organizations\, and corporations who wish to expand their diversity and inclusion educational opportunities for their employees.  \nStudents have followed a rigorous process encompassing the entire school year to conceptualize\, write\, edit\, perform\, and prepare Lunchbox for their communities. Lunchbox will be performed at the Lawrenceville Art Center from May 27th to May 31st in honor and celebration of AANHPI Heritage Month. Lunchbox will be one hour in length\, followed by a 45-minute discussion facilitated by ASA students. There are 8 shows in total\, each with limited seating. Tickets are on sale now until May 23rd for $25\, and prices rise to $30. Tickets can be purchased online at auroratheatre.com.  \n\nFri\, May 27th 4pm & 7pm \nSat\, May 28th 4pm & 7pm\nSun\, May 29th 2pm & 6pm\nMon\, May 30th 7pm\nTue\, May 31st 7pm\n\nAbout ASA: Asian Student Alliance (ASA) is a 501C3 non-profit student-led organization in metropolitan Atlanta\, including the following counties: Barrow\, Dekalb\, Fulton\, Forsyth\, Gwinnett\, and Walton. ASA was created in the wake of the racially-motivated Atlanta area Spa Shootings\, in order to reduce anti-Asian racism through education and leadership. Asians are the least represented racial group in all areas of leadership in the United States today. The purpose of ASA is to raise leadership capacity among Asian American youth through a student-centered approach\, developing positive intersectional identities\, navigating immigrant family dynamics\, building coalitions\, and increasing knowledge of Asian Americans in U.S. history. 
URL:https://gwinnettcares.org/event/lunchbox-an-original-play-by-asian-student-alliance-2022-05-29-2/
LOCATION:Lawrenceville Arts Center\, 125 N Clayton Street\, Lawrenceville\, GA\, 30046\, United States
CATEGORIES:General
ORGANIZER;CN="Asian Student Alliance":MAILTO:asianstudentalliance.org@gmail.com
END:VEVENT
BEGIN:VEVENT
DTSTART;TZID=America/New_York:20220529T140000
DTEND;TZID=America/New_York:20220529T160000
DTSTAMP:20260420T134219
CREATED:20220518T115733Z
LAST-MODIFIED:20220518T115733Z
UID:18334-1653832800-1653840000@gwinnettcares.org
SUMMARY:Lunchbox: An Original Play by Asian Student Alliance
DESCRIPTION:Lunchbox is an original play written by Asian Student Alliance (ASA) students based on their lived experiences. The narrative centers on the daily joys and hardships of four Asian American high school students. The purpose of the play is to educate the non-Asian American community and spread awareness about some of the shared experiences of Asian American youth today. This is an excellent opportunity for school districts\, governmental and community-based organizations\, and corporations who wish to expand their diversity and inclusion educational opportunities for their employees.  \nStudents have followed a rigorous process encompassing the entire school year to conceptualize\, write\, edit\, perform\, and prepare Lunchbox for their communities. Lunchbox will be performed at the Lawrenceville Art Center from May 27th to May 31st in honor and celebration of AANHPI Heritage Month. Lunchbox will be one hour in length\, followed by a 45-minute discussion facilitated by ASA students. There are 8 shows in total\, each with limited seating. Tickets are on sale now until May 23rd for $25\, and prices rise to $30. Tickets can be purchased online at auroratheatre.com.  \n\nFri\, May 27th 4pm & 7pm \nSat\, May 28th 4pm & 7pm\nSun\, May 29th 2pm & 6pm\nMon\, May 30th 7pm\nTue\, May 31st 7pm\n\nAbout ASA: Asian Student Alliance (ASA) is a 501C3 non-profit student-led organization in metropolitan Atlanta\, including the following counties: Barrow\, Dekalb\, Fulton\, Forsyth\, Gwinnett\, and Walton. ASA was created in the wake of the racially-motivated Atlanta area Spa Shootings\, in order to reduce anti-Asian racism through education and leadership. Asians are the least represented racial group in all areas of leadership in the United States today. The purpose of ASA is to raise leadership capacity among Asian American youth through a student-centered approach\, developing positive intersectional identities\, navigating immigrant family dynamics\, building coalitions\, and increasing knowledge of Asian Americans in U.S. history. 
URL:https://gwinnettcares.org/event/lunchbox-an-original-play-by-asian-student-alliance-2022-05-29/
LOCATION:Lawrenceville Arts Center\, 125 N Clayton Street\, Lawrenceville\, GA\, 30046\, United States
CATEGORIES:General
ORGANIZER;CN="Asian Student Alliance":MAILTO:asianstudentalliance.org@gmail.com
END:VEVENT
BEGIN:VEVENT
DTSTART;TZID=America/New_York:20220528T190000
DTEND;TZID=America/New_York:20220528T210000
DTSTAMP:20260420T134219
CREATED:20220518T115733Z
LAST-MODIFIED:20220518T115733Z
UID:18333-1653764400-1653771600@gwinnettcares.org
SUMMARY:Lunchbox: An Original Play by Asian Student Alliance
DESCRIPTION:Lunchbox is an original play written by Asian Student Alliance (ASA) students based on their lived experiences. The narrative centers on the daily joys and hardships of four Asian American high school students. The purpose of the play is to educate the non-Asian American community and spread awareness about some of the shared experiences of Asian American youth today. This is an excellent opportunity for school districts\, governmental and community-based organizations\, and corporations who wish to expand their diversity and inclusion educational opportunities for their employees.  \nStudents have followed a rigorous process encompassing the entire school year to conceptualize\, write\, edit\, perform\, and prepare Lunchbox for their communities. Lunchbox will be performed at the Lawrenceville Art Center from May 27th to May 31st in honor and celebration of AANHPI Heritage Month. Lunchbox will be one hour in length\, followed by a 45-minute discussion facilitated by ASA students. There are 8 shows in total\, each with limited seating. Tickets are on sale now until May 23rd for $25\, and prices rise to $30. Tickets can be purchased online at auroratheatre.com.  \n\nFri\, May 27th 4pm & 7pm \nSat\, May 28th 4pm & 7pm\nSun\, May 29th 2pm & 6pm\nMon\, May 30th 7pm\nTue\, May 31st 7pm\n\nAbout ASA: Asian Student Alliance (ASA) is a 501C3 non-profit student-led organization in metropolitan Atlanta\, including the following counties: Barrow\, Dekalb\, Fulton\, Forsyth\, Gwinnett\, and Walton. ASA was created in the wake of the racially-motivated Atlanta area Spa Shootings\, in order to reduce anti-Asian racism through education and leadership. Asians are the least represented racial group in all areas of leadership in the United States today. The purpose of ASA is to raise leadership capacity among Asian American youth through a student-centered approach\, developing positive intersectional identities\, navigating immigrant family dynamics\, building coalitions\, and increasing knowledge of Asian Americans in U.S. history. 
URL:https://gwinnettcares.org/event/lunchbox-an-original-play-by-asian-student-alliance-2022-05-28-2/
LOCATION:Lawrenceville Arts Center\, 125 N Clayton Street\, Lawrenceville\, GA\, 30046\, United States
CATEGORIES:General
ORGANIZER;CN="Asian Student Alliance":MAILTO:asianstudentalliance.org@gmail.com
END:VEVENT
BEGIN:VEVENT
DTSTART;TZID=America/New_York:20220528T160000
DTEND;TZID=America/New_York:20220528T180000
DTSTAMP:20260420T134219
CREATED:20220518T115733Z
LAST-MODIFIED:20220518T115733Z
UID:18332-1653753600-1653760800@gwinnettcares.org
SUMMARY:Lunchbox: An Original Play by Asian Student Alliance
DESCRIPTION:Lunchbox is an original play written by Asian Student Alliance (ASA) students based on their lived experiences. The narrative centers on the daily joys and hardships of four Asian American high school students. The purpose of the play is to educate the non-Asian American community and spread awareness about some of the shared experiences of Asian American youth today. This is an excellent opportunity for school districts\, governmental and community-based organizations\, and corporations who wish to expand their diversity and inclusion educational opportunities for their employees.  \nStudents have followed a rigorous process encompassing the entire school year to conceptualize\, write\, edit\, perform\, and prepare Lunchbox for their communities. Lunchbox will be performed at the Lawrenceville Art Center from May 27th to May 31st in honor and celebration of AANHPI Heritage Month. Lunchbox will be one hour in length\, followed by a 45-minute discussion facilitated by ASA students. There are 8 shows in total\, each with limited seating. Tickets are on sale now until May 23rd for $25\, and prices rise to $30. Tickets can be purchased online at auroratheatre.com.  \n\nFri\, May 27th 4pm & 7pm \nSat\, May 28th 4pm & 7pm\nSun\, May 29th 2pm & 6pm\nMon\, May 30th 7pm\nTue\, May 31st 7pm\n\nAbout ASA: Asian Student Alliance (ASA) is a 501C3 non-profit student-led organization in metropolitan Atlanta\, including the following counties: Barrow\, Dekalb\, Fulton\, Forsyth\, Gwinnett\, and Walton. ASA was created in the wake of the racially-motivated Atlanta area Spa Shootings\, in order to reduce anti-Asian racism through education and leadership. Asians are the least represented racial group in all areas of leadership in the United States today. The purpose of ASA is to raise leadership capacity among Asian American youth through a student-centered approach\, developing positive intersectional identities\, navigating immigrant family dynamics\, building coalitions\, and increasing knowledge of Asian Americans in U.S. history. 
URL:https://gwinnettcares.org/event/lunchbox-an-original-play-by-asian-student-alliance-2022-05-28/
LOCATION:Lawrenceville Arts Center\, 125 N Clayton Street\, Lawrenceville\, GA\, 30046\, United States
CATEGORIES:General
ORGANIZER;CN="Asian Student Alliance":MAILTO:asianstudentalliance.org@gmail.com
END:VEVENT
BEGIN:VEVENT
DTSTART;TZID=America/New_York:20220527T190000
DTEND;TZID=America/New_York:20220527T210000
DTSTAMP:20260420T134219
CREATED:20220518T115733Z
LAST-MODIFIED:20220518T115733Z
UID:18331-1653678000-1653685200@gwinnettcares.org
SUMMARY:Lunchbox: An Original Play by Asian Student Alliance
DESCRIPTION:Lunchbox is an original play written by Asian Student Alliance (ASA) students based on their lived experiences. The narrative centers on the daily joys and hardships of four Asian American high school students. The purpose of the play is to educate the non-Asian American community and spread awareness about some of the shared experiences of Asian American youth today. This is an excellent opportunity for school districts\, governmental and community-based organizations\, and corporations who wish to expand their diversity and inclusion educational opportunities for their employees.  \nStudents have followed a rigorous process encompassing the entire school year to conceptualize\, write\, edit\, perform\, and prepare Lunchbox for their communities. Lunchbox will be performed at the Lawrenceville Art Center from May 27th to May 31st in honor and celebration of AANHPI Heritage Month. Lunchbox will be one hour in length\, followed by a 45-minute discussion facilitated by ASA students. There are 8 shows in total\, each with limited seating. Tickets are on sale now until May 23rd for $25\, and prices rise to $30. Tickets can be purchased online at auroratheatre.com.  \n\nFri\, May 27th 4pm & 7pm \nSat\, May 28th 4pm & 7pm\nSun\, May 29th 2pm & 6pm\nMon\, May 30th 7pm\nTue\, May 31st 7pm\n\nAbout ASA: Asian Student Alliance (ASA) is a 501C3 non-profit student-led organization in metropolitan Atlanta\, including the following counties: Barrow\, Dekalb\, Fulton\, Forsyth\, Gwinnett\, and Walton. ASA was created in the wake of the racially-motivated Atlanta area Spa Shootings\, in order to reduce anti-Asian racism through education and leadership. Asians are the least represented racial group in all areas of leadership in the United States today. The purpose of ASA is to raise leadership capacity among Asian American youth through a student-centered approach\, developing positive intersectional identities\, navigating immigrant family dynamics\, building coalitions\, and increasing knowledge of Asian Americans in U.S. history. 
URL:https://gwinnettcares.org/event/lunchbox-an-original-play-by-asian-student-alliance-2022-05-27/
LOCATION:Lawrenceville Arts Center\, 125 N Clayton Street\, Lawrenceville\, GA\, 30046\, United States
CATEGORIES:General
ORGANIZER;CN="Asian Student Alliance":MAILTO:asianstudentalliance.org@gmail.com
END:VEVENT
BEGIN:VEVENT
DTSTART;TZID=America/New_York:20220527T160000
DTEND;TZID=America/New_York:20220527T180000
DTSTAMP:20260420T134219
CREATED:20220518T115733Z
LAST-MODIFIED:20220518T115733Z
UID:18315-1653667200-1653674400@gwinnettcares.org
SUMMARY:Lunchbox: An Original Play by Asian Student Alliance
DESCRIPTION:Lunchbox is an original play written by Asian Student Alliance (ASA) students based on their lived experiences. The narrative centers on the daily joys and hardships of four Asian American high school students. The purpose of the play is to educate the non-Asian American community and spread awareness about some of the shared experiences of Asian American youth today. This is an excellent opportunity for school districts\, governmental and community-based organizations\, and corporations who wish to expand their diversity and inclusion educational opportunities for their employees.  \nStudents have followed a rigorous process encompassing the entire school year to conceptualize\, write\, edit\, perform\, and prepare Lunchbox for their communities. Lunchbox will be performed at the Lawrenceville Art Center from May 27th to May 31st in honor and celebration of AANHPI Heritage Month. Lunchbox will be one hour in length\, followed by a 45-minute discussion facilitated by ASA students. There are 8 shows in total\, each with limited seating. Tickets are on sale now until May 23rd for $25\, and prices rise to $30. Tickets can be purchased online at auroratheatre.com.  \n\nFri\, May 27th 4pm & 7pm \nSat\, May 28th 4pm & 7pm\nSun\, May 29th 2pm & 6pm\nMon\, May 30th 7pm\nTue\, May 31st 7pm\n\nAbout ASA: Asian Student Alliance (ASA) is a 501C3 non-profit student-led organization in metropolitan Atlanta\, including the following counties: Barrow\, Dekalb\, Fulton\, Forsyth\, Gwinnett\, and Walton. ASA was created in the wake of the racially-motivated Atlanta area Spa Shootings\, in order to reduce anti-Asian racism through education and leadership. Asians are the least represented racial group in all areas of leadership in the United States today. The purpose of ASA is to raise leadership capacity among Asian American youth through a student-centered approach\, developing positive intersectional identities\, navigating immigrant family dynamics\, building coalitions\, and increasing knowledge of Asian Americans in U.S. history. 
URL:https://gwinnettcares.org/event/lunchbox-an-original-play-by-asian-student-alliance/
LOCATION:Lawrenceville Arts Center\, 125 N Clayton Street\, Lawrenceville\, GA\, 30046\, United States
CATEGORIES:General
ORGANIZER;CN="Asian Student Alliance":MAILTO:asianstudentalliance.org@gmail.com
END:VEVENT
BEGIN:VEVENT
DTSTART;TZID=America/New_York:20220521T073000
DTEND;TZID=America/New_York:20220521T110000
DTSTAMP:20260420T134219
CREATED:20220502T143311Z
LAST-MODIFIED:20220502T143311Z
UID:16495-1653118200-1653130800@gwinnettcares.org
SUMMARY:Walk Away Your Blues Walk-a-Thon
DESCRIPTION:To recognize Mental Health Awareness Month and Asian Heritage Month\, the Asian American Resource Center will hold the Walk Away Your Blues…Walk for a Healthier\, Happier Life Walk-a-Thon on Saturday\, May 21\, 2022. The event will take place at George Pierce Park\, with walk-in registration beginning at 7:30 am and the walk to follow at 8:00 am. \nThe event is free\, but advance registration is recommended. Click here to register. The first 300 participants to register will receive a free T-shirt.
URL:https://gwinnettcares.org/event/walk-away-your-blues-walk-a-thon/
LOCATION:George Pierce Park\, 55 Buford Highway NE\, Suwanee\, GA\, 30024\, United States
CATEGORIES:General
END:VEVENT
BEGIN:VEVENT
DTSTART;TZID=America/New_York:20220514T100000
DTEND;TZID=America/New_York:20220514T150000
DTSTAMP:20260420T134219
CREATED:20220428T123357Z
LAST-MODIFIED:20220428T123357Z
UID:16438-1652522400-1652540400@gwinnettcares.org
SUMMARY:2022 DFCS-PCS Youth Summit
DESCRIPTION:Middle and high school youth\, grades 6-12\, and their adult chaperones are invited to join the 2022 DFCS-PCS Youth Summit on May 14 from 10:00 am to 3:00 pm at the John C. Maxwell Leadership Center in Duluth. The event will include motivational and educational messages designed to empower attendees to make the best choices for their lives in a fun and engaging environment. \nThere is no charge for the event. Lunch and giveaways are included. One adult chaperone is required for every 10 youth. \nFor more information or to register\, email training@guideinc.org.
URL:https://gwinnettcares.org/event/2022-dfcs-pcs-youth-summit/
LOCATION:John C. Maxwell Leadership Center\, 2050 Sugarloaf Circle\, Duluth\, GA\, 30097\, United States
CATEGORIES:General
ORGANIZER;CN="GUIDE%2C Inc.":MAILTO:training@guideinc.org
END:VEVENT
BEGIN:VEVENT
DTSTART;TZID=America/New_York:20220428T180000
DTEND;TZID=America/New_York:20220428T190000
DTSTAMP:20260420T134219
CREATED:20220405T121106Z
LAST-MODIFIED:20220405T121106Z
UID:15589-1651168800-1651172400@gwinnettcares.org
SUMMARY:Mental Wellness\, Suicide Prevention & Community Resilience Model Workshop
DESCRIPTION:The primary focus of the virtual Community Resilience Model Workshop (CRM) is to re-set the natural balance of the nervous system and create “trauma-informed” and “resiliency-focused” communities. The focus will be on mental wellness\, suicide awareness\, and how to recognize and respond to crisis situations and mental health conditions. \nRegister at www.sdp3.org.
URL:https://gwinnettcares.org/event/mental-wellness-suicide-prevention-community-resilience-model-workshop/
LOCATION:GA
CATEGORIES:General
END:VEVENT
BEGIN:VEVENT
DTSTART;TZID=America/New_York:20220404T160000
DTEND;TZID=America/New_York:20220404T180000
DTSTAMP:20260420T134219
CREATED:20220401T154413Z
LAST-MODIFIED:20220401T154413Z
UID:15360-1649088000-1649095200@gwinnettcares.org
SUMMARY:Amerigroup Community Care Family Game Night
DESCRIPTION:Amerigroup Community Care will host a family game night at Chuck E. Cheese in Norcross from 4:00 to 6:00 pm. The first 20 children can play and receive pizza. \nAn Amerigroup Community Care Representative will be at the event to answer your questions about member benefits and services.
URL:https://gwinnettcares.org/event/amerigroup-community-care-family-game-night/
LOCATION:Chuck E. Cheese\, 5019 Jimmy Carter Boulevard\, Norcross\, GA\, 30093\, United States
CATEGORIES:General
END:VEVENT
BEGIN:VEVENT
DTSTART;TZID=America/New_York:20220323T080000
DTEND;TZID=America/New_York:20220323T100000
DTSTAMP:20260420T134219
CREATED:20220317T171809Z
LAST-MODIFIED:20220317T172147Z
UID:15167-1648022400-1648029600@gwinnettcares.org
SUMMARY:Community Conversation about Litter
DESCRIPTION:“Connecting People and Places: A Community Conversation About Litter” is the first of its kind and is intended to address the issue of littering on a hyperlocal scale. This interactive discussion hosted by Gwinnett Clean & Beautiful will engage citizens and industry experts in a facilitated conversation to address and prevent littering in the community that we love.  There will be ample opportunity for any questions by attendees.
URL:https://gwinnettcares.org/event/community-conversation-about-litter/
LOCATION:GA
CATEGORIES:General
END:VEVENT
BEGIN:VEVENT
DTSTART;TZID=America/New_York:20220222T133000
DTEND;TZID=America/New_York:20220222T153000
DTSTAMP:20260420T134219
CREATED:20220209T190344Z
LAST-MODIFIED:20220209T220426Z
UID:14359-1645536600-1645543800@gwinnettcares.org
SUMMARY:Ser Familia C.A.F.E. Serving Latino Seniors
DESCRIPTION:Join Ser Familia’s C.A.F.E from 1:30 to 3:30 pm for fun\, interactive group activities for our Latino Seniors.
URL:https://gwinnettcares.org/event/ser-familia-c-a-f-e-serving-latino-seniors/
LOCATION:Ser Familia\, Inc\, 3594 Baxley Point Dr.\, Suwanee\, 30024
CATEGORIES:General
END:VEVENT
BEGIN:VEVENT
DTSTART;TZID=America/New_York:20220216T100000
DTEND;TZID=America/New_York:20220216T120000
DTSTAMP:20260420T134219
CREATED:20220128T151705Z
LAST-MODIFIED:20220128T151705Z
UID:14160-1645005600-1645012800@gwinnettcares.org
SUMMARY:GUIDE - Best Practices in Youth Development Webinar
DESCRIPTION:Best Practices in Youth Development will bridge the most up-to-date research in youth development and afterschool programming with achievable practices that will promote positive outcomes in youth. \nLearn more and register here: https://guideinc.wufoo.com/forms/s1261fm40gfota6/. Registration closes on Monday\, February 14\, 2022\, at 5:00 pm.
URL:https://gwinnettcares.org/event/guide-best-practices-in-youth-development-webinar/
LOCATION:GA
CATEGORIES:General,Want to Help
ORGANIZER;CN="GUIDE":MAILTO:Training@guideinc.org
END:VEVENT
BEGIN:VEVENT
DTSTART;TZID=America/New_York:20220215T100000
DTEND;TZID=America/New_York:20220215T110000
DTSTAMP:20260420T134219
CREATED:20220211T012044Z
LAST-MODIFIED:20220211T012044Z
UID:14388-1644919200-1644922800@gwinnettcares.org
SUMMARY:Webinar: Supporting Jobseekers and Employees for Career Success
DESCRIPTION:Metro Atlanta Industry Partnerships’ (MAIP) monthly webinar will focus on employment support\, job search preparation\, and wrap-around services for job seekers and employees. The event will feature partners from Atlanta Center for Self Sufficiency (ACSS)\, GEEARS\, Literacy Action\, and WorkSource Atlanta. Register here.
URL:https://gwinnettcares.org/event/webinar-supporting-jobseekers-and-employees-for-career-success/
LOCATION:GA
CATEGORIES:Employment Support,General
END:VEVENT
BEGIN:VEVENT
DTSTART;TZID=America/New_York:20220124T120000
DTEND;TZID=America/New_York:20220124T130000
DTSTAMP:20260420T134219
CREATED:20220114T161006Z
LAST-MODIFIED:20220114T161006Z
UID:11148-1643025600-1643029200@gwinnettcares.org
SUMMARY:Women United Advocacy and Policy Training
DESCRIPTION:UWGA Women United Presents: \nVoices for Georgia’s Children Advocacy and Policy Training \nMonday\, January 24\, 12pm-1pm \nUnited Way of Greater Atlanta has aligned its work to focus on Child Well-Being\, and Women United has made an immense impact in bettering the lives of women in our community. Each of us have a voice in advocating for policy that affects the lives of children. Join us for an informative training with Polly McKinney\, Advocacy Director at Voices for Georgia’s Children\, about what UWGA is doing to impact policymaking in our 13-county footprint and how you can help.\nPlease Register for the training here: https://uwga-org.zoom.us/webinar/register/WN_SitlNWYYR0mD0HXXBeOnKA
URL:https://gwinnettcares.org/event/women-united-advocacy-and-policy-training/
LOCATION:GA
CATEGORIES:General
ATTACH;FMTTYPE=image/png:https://gwinnettcares.org/gwinnettcares/wp-content/uploads/sites/7/2022/01/Voices-for-Georgias-Children.png
END:VEVENT
END:VCALENDAR