BEGIN:VCALENDAR
VERSION:2.0
PRODID:-//Gwinnett Cares - ECPv6.2.4//NONSGML v1.0//EN
CALSCALE:GREGORIAN
METHOD:PUBLISH
X-ORIGINAL-URL:https://gwinnettcares.org
X-WR-CALDESC:Events for Gwinnett Cares
REFRESH-INTERVAL;VALUE=DURATION:PT1H
X-Robots-Tag:noindex
X-PUBLISHED-TTL:PT1H
BEGIN:VTIMEZONE
TZID:America/New_York
BEGIN:DAYLIGHT
TZOFFSETFROM:-0500
TZOFFSETTO:-0400
TZNAME:EDT
DTSTART:20230312T070000
END:DAYLIGHT
BEGIN:STANDARD
TZOFFSETFROM:-0400
TZOFFSETTO:-0500
TZNAME:EST
DTSTART:20231105T060000
END:STANDARD
END:VTIMEZONE
BEGIN:VEVENT
DTSTART;TZID=America/New_York:20230401T093000
DTEND;TZID=America/New_York:20230401T110000
DTSTAMP:20260424T231022
CREATED:20230106T182846Z
LAST-MODIFIED:20230106T183700Z
UID:28012-1680341400-1680346800@gwinnettcares.org
SUMMARY:Free Food Distribution: Mercy Seed Food Pantry
DESCRIPTION:The Mercy Seed Food Pantry is open the first Sunday of each month from 9:30-10:15 am and noon-12:45 pm and Saturdays from 9:30-11:00 am. \nA photo ID (driver’s license or state ID card) and current proof of residency within the last 30 days are required to be eligible to receive food once weekly. \nThose in need of food may call Mercy Seed at 770-925-8600 ext. 115.
URL:https://gwinnettcares.org/event/free-food-distribution-mercy-seed-food-pantry-2023-04-01/
LOCATION:Mercy Seed Resource Ceter\, 4000 Five Forks Trickum Rd SW\, Lilburn\, GA\, 30047\, United States
CATEGORIES:Food Resources
END:VEVENT
BEGIN:VEVENT
DTSTART;TZID=America/New_York:20230401T100000
DTEND;TZID=America/New_York:20230401T130000
DTSTAMP:20260424T231022
CREATED:20230322T120234Z
LAST-MODIFIED:20230328T132940Z
UID:29515-1680343200-1680354000@gwinnettcares.org
SUMMARY:Feed My People Food Giveaway: Berkmar High School
DESCRIPTION:FeedMyPeople.org will sponsor a food giveaway event at Berkmar High School on Saturday\, April 1\, 2023. The event will take place from 10:00 am to 1:00 pm. One meal kit per car will be distributed on a first-come\, first-served basis while supplies last. \n\n\n\n\n\nGwinnett Cares COVID vaccination education kits and free at-home COVID tests will be given to each attendee as well.
URL:https://gwinnettcares.org/event/feed-my-people-food-giveaway-berkmar-high-school/
LOCATION:Berkmar High School\, 405 Pleasant Hill Road\, Lilburn\, GA\, 30047\, United States
CATEGORIES:Food Resources
END:VEVENT
END:VCALENDAR