BEGIN:VCALENDAR
VERSION:2.0
PRODID:-//Gwinnett Cares - ECPv6.2.4//NONSGML v1.0//EN
CALSCALE:GREGORIAN
METHOD:PUBLISH
X-ORIGINAL-URL:https://gwinnettcares.org
X-WR-CALDESC:Events for Gwinnett Cares
REFRESH-INTERVAL;VALUE=DURATION:PT1H
X-Robots-Tag:noindex
X-PUBLISHED-TTL:PT1H
BEGIN:VTIMEZONE
TZID:America/New_York
BEGIN:DAYLIGHT
TZOFFSETFROM:-0500
TZOFFSETTO:-0400
TZNAME:EDT
DTSTART:20220313T070000
END:DAYLIGHT
BEGIN:STANDARD
TZOFFSETFROM:-0400
TZOFFSETTO:-0500
TZNAME:EST
DTSTART:20221106T060000
END:STANDARD
END:VTIMEZONE
BEGIN:VEVENT
DTSTART;TZID=America/New_York:20221013T090000
DTEND;TZID=America/New_York:20221013T150000
DTSTAMP:20260422T183530
CREATED:20220114T175420Z
LAST-MODIFIED:20220114T175420Z
UID:13500-1665651600-1665673200@gwinnettcares.org
SUMMARY:COVID-19 Vaccines: Lawrenceville Health Center
DESCRIPTION:Free COVID-19 vaccines are available for walk-ins at the Lawrenceville Health Center Monday through Friday from 9:00 a.m. to 3:00 p.m.
URL:https://gwinnettcares.org/event/covid-19-vaccines-lawrenceville-health-center-14-2022-10-13/
LOCATION:Lawrenceville Health Center\, 455 Grayson Highway\, Suite 300\, Lawrenceville\, GA\, 30046
CATEGORIES:Healthcare Resources
END:VEVENT
BEGIN:VEVENT
DTSTART;TZID=America/New_York:20221013T090000
DTEND;TZID=America/New_York:20221013T150000
DTSTAMP:20260422T183530
CREATED:20220114T175455Z
LAST-MODIFIED:20220114T175455Z
UID:19920-1665651600-1665673200@gwinnettcares.org
SUMMARY:COVID-19 Vaccines: Norcross Health Center
DESCRIPTION:Free COVID-19 vaccines are available for walk-ins at the Norcross Health Center Monday through Friday from 9:00 a.m. to 3:00 p.m.
URL:https://gwinnettcares.org/event/covid-19-vaccines-norcross-health-center-14-2022-10-13/
LOCATION:Norcross Health Center\, 5030 Georgia Belle Court\, Norcross\, GA\, 30093
CATEGORIES:Healthcare Resources
END:VEVENT
BEGIN:VEVENT
DTSTART;TZID=America/New_York:20221013T093000
DTEND;TZID=America/New_York:20221013T173000
DTSTAMP:20260422T183530
CREATED:20220506T213339Z
LAST-MODIFIED:20221213T124331Z
UID:21067-1665653400-1665682200@gwinnettcares.org
SUMMARY:COVID-19 Testing & Vaccines: CHOA Duluth
DESCRIPTION:Children’s Vaccines are here! \nChildren’s Healthcare of Atlanta\, in partnership with COVID Care GA\, are now offering COVID-19 vaccinations for children ages 5 and up and adults\, as well as boosters and PCR COVID-19 testing\, in the parking lot of Children’s Healthcare of Atlanta at Satellite Boulevard. Pre-registration is not required\, but appointments can be made at www.covidcarega.com. \nPlease note\, vaccine availability is subject to change based on supply. This site may close early if maximum capacity is reached or if there is inclement weather. \nHours:  \n\nMonday through Saturday\, 9:30 am – 5:30 pm (closed for lunch from 1:00 – 1:30 pm)\nClosed Sunday\nClosed on all major holidays\n\nAdditional COVID-19 testing resources can be found at dph.georgia.gov/covidtesting. \n 
URL:https://gwinnettcares.org/event/covid-19-vaccines-choa-duluth-2022-10-13/
LOCATION:Children’s Healthcare of Atlanta – Satellite Boulevard\, 2660 Satellite Boulevard\, Duluth\, GA\, 30096
CATEGORIES:Healthcare Resources
END:VEVENT
BEGIN:VEVENT
DTSTART;TZID=America/New_York:20221013T120000
DTEND;TZID=America/New_York:20221013T183000
DTSTAMP:20260422T183530
CREATED:20220114T175305Z
LAST-MODIFIED:20221214T131416Z
UID:13177-1665662400-1665685800@gwinnettcares.org
SUMMARY:COVID-19 Vaccines: Good Sam
DESCRIPTION:COVID-19 vaccines are available by appointment or walk-in service at the Good Samaritan Health Center on Buford Highway in Norcross on weekdays at the following times:\n\n\n\nMonday – Wednesday\, 8:00 am – 3:30 pm\nThursday\, 12:00 pm – 6:30 pm\nFriday\, 8:00 am – 1:30 pm\n\n\n\n\nNo Saturday hours are available. Servicios ofrecidos en español. \n\n\n\n\n678-280-6630
URL:https://gwinnettcares.org/event/covid-19-vaccines-good-sam-14-2022-10-13/
LOCATION:Good Samaritan Health Center of West Gwinnett\, 5949 Buford Hwy.\, Norcross\, GA\, 30071
CATEGORIES:Healthcare Resources
END:VEVENT
BEGIN:VEVENT
DTSTART;TZID=America/New_York:20221013T150000
DTEND;TZID=America/New_York:20221013T160000
DTSTAMP:20260422T183530
CREATED:20221010T124015Z
LAST-MODIFIED:20221010T124015Z
UID:22051-1665673200-1665676800@gwinnettcares.org
SUMMARY:Vaccination Weeks of Action Kick-Off Call
DESCRIPTION:Join the COVID-19 Community Corps for the Vaccination Weeks of Action kick-off call on Thursday\, October 13 at 3:00 pm. Vaccination Weeks of Action will be a time of encouraging more people to get an updated COVID vaccine\, which protects against both the original COVID virus and Omicron. \nDr. Cameron Webb\, Senior Advisor to the White House COVID-19 Response Team\, and partners at the National PTA and Alpha Kappa Alpha Sorority will address the following topics during the kick-off call: \n\nThe latest information on the updated COVID vaccines\, which help protect against Omicron.\nThe importance of getting an updated COVID vaccine for the fall and winter\, as people spend more time together indoors.\nHow to get involved in the Vaccination Weeks of Action.\nHow Campaign partners are encouraging vaccination in their own communities.\n\nRegister here. \n 
URL:https://gwinnettcares.org/event/vaccination-weeks-of-action-kick-off-call/
LOCATION:GA
CATEGORIES:Healthcare Resources
END:VEVENT
END:VCALENDAR