BEGIN:VCALENDAR
VERSION:2.0
PRODID:-//Gwinnett Cares - ECPv6.2.4//NONSGML v1.0//EN
CALSCALE:GREGORIAN
METHOD:PUBLISH
X-WR-CALNAME:Gwinnett Cares
X-ORIGINAL-URL:https://gwinnettcares.org
X-WR-CALDESC:Events for Gwinnett Cares
REFRESH-INTERVAL;VALUE=DURATION:PT1H
X-Robots-Tag:noindex
X-PUBLISHED-TTL:PT1H
BEGIN:VTIMEZONE
TZID:America/New_York
BEGIN:DAYLIGHT
TZOFFSETFROM:-0500
TZOFFSETTO:-0400
TZNAME:EDT
DTSTART:20220313T070000
END:DAYLIGHT
BEGIN:STANDARD
TZOFFSETFROM:-0400
TZOFFSETTO:-0500
TZNAME:EST
DTSTART:20221106T060000
END:STANDARD
END:VTIMEZONE
BEGIN:VEVENT
DTSTART;TZID=America/New_York:20221201T090000
DTEND;TZID=America/New_York:20221201T150000
DTSTAMP:20260425T154211
CREATED:20220114T175455Z
LAST-MODIFIED:20220114T175455Z
UID:19955-1669885200-1669906800@gwinnettcares.org
SUMMARY:COVID-19 Vaccines: Norcross Health Center
DESCRIPTION:Free COVID-19 vaccines are available for walk-ins at the Norcross Health Center Monday through Friday from 9:00 a.m. to 3:00 p.m.
URL:https://gwinnettcares.org/event/covid-19-vaccines-norcross-health-center-14-2022-12-01/
LOCATION:Norcross Health Center\, 5030 Georgia Belle Court\, Norcross\, GA\, 30093
CATEGORIES:Healthcare Resources
END:VEVENT
BEGIN:VEVENT
DTSTART;TZID=America/New_York:20221201T090000
DTEND;TZID=America/New_York:20221201T150000
DTSTAMP:20260425T154211
CREATED:20220114T175420Z
LAST-MODIFIED:20220114T175420Z
UID:13557-1669885200-1669906800@gwinnettcares.org
SUMMARY:COVID-19 Vaccines: Lawrenceville Health Center
DESCRIPTION:Free COVID-19 vaccines are available for walk-ins at the Lawrenceville Health Center Monday through Friday from 9:00 a.m. to 3:00 p.m.
URL:https://gwinnettcares.org/event/covid-19-vaccines-lawrenceville-health-center-14-2022-12-01/
LOCATION:Lawrenceville Health Center\, 455 Grayson Highway\, Suite 300\, Lawrenceville\, GA\, 30046
CATEGORIES:Healthcare Resources
END:VEVENT
BEGIN:VEVENT
DTSTART;TZID=America/New_York:20221130T130000
DTEND;TZID=America/New_York:20221130T153000
DTSTAMP:20260425T154211
CREATED:20221104T124052Z
LAST-MODIFIED:20221104T124052Z
UID:22225-1669813200-1669822200@gwinnettcares.org
SUMMARY:Recognition\, Remembrance\, and Reflection: The Syphilis Study at Tuskegee and Macon County\, Alabama
DESCRIPTION:The Centers for Disease Control and Prevention (CDC) will hold a special presentation of Recognition\, Remembrance\, and Reflection: The Syphilis Study at Tuskegee and Macon County\, Alabama. The presentation will acknowledge the 50th anniversary of the end of the U.S. Public Health Service Study of Untreated Syphilis in the Negro Male at Tuskegee and Macon County\, Alabama\, 1932 -1972. \nThe event will take place in a hybrid format on Wednesday\, November 30\, 2022\, at CDC headquarters in Atlanta and virtually from 1:00 to 3:30 pm. The in-person event will be held in the Global Communications Center (Building 19)\, Alexander D. Langmuir Auditorium\, Roybal Campus. \nLearn more and find information about live-streaming the event here.
URL:https://gwinnettcares.org/event/recognition-remembrance-and-reflection-the-syphilis-study-at-tuskegee-and-macon-county-alabama/
LOCATION:CDC Headquarters\, 1600 Clifton Road NE\, Atlanta\, GA\, 30329\, United States
CATEGORIES:General
END:VEVENT
BEGIN:VEVENT
DTSTART;TZID=America/New_York:20221130T100000
DTEND;TZID=America/New_York:20221130T125500
DTSTAMP:20260425T154211
CREATED:20220114T175532Z
LAST-MODIFIED:20221213T124613Z
UID:14050-1669802400-1669812900@gwinnettcares.org
SUMMARY:COVID-19 Testing: Baitul Ata Mosque
DESCRIPTION:Free COVID-19 testing is available every Monday\, Wednesday\, and Saturday beginning at 10:00 am. The final appointment of the day is at 12:55 pm. Register here. \nAdditional COVID-19 testing resources can be found at dph.georgia.gov/covidtesting.
URL:https://gwinnettcares.org/event/covid-19-testing-baitul-ata-mosque-8-2022-11-30/
LOCATION:Baitul Ata Mosque\, 1800 Willow Trail Parkway\, Norcross\, GA
CATEGORIES:Healthcare Resources
END:VEVENT
BEGIN:VEVENT
DTSTART;TZID=America/New_York:20221130T093000
DTEND;TZID=America/New_York:20221130T173000
DTSTAMP:20260425T154211
CREATED:20220506T213339Z
LAST-MODIFIED:20221213T124409Z
UID:21107-1669800600-1669829400@gwinnettcares.org
SUMMARY:COVID-19 Testing & Vaccines: CHOA Duluth
DESCRIPTION:Children’s Vaccines are here! \nChildren’s Healthcare of Atlanta\, in partnership with COVID Care GA\, are now offering COVID-19 vaccinations for children ages 5 and up and adults\, as well as boosters and PCR COVID-19 testing\, in the parking lot of Children’s Healthcare of Atlanta at Satellite Boulevard. Pre-registration is not required\, but appointments can be made at www.covidcarega.com. \nPlease note\, vaccine availability is subject to change based on supply. This site may close early if maximum capacity is reached or if there is inclement weather. \nHours:  \n\nMonday through Saturday\, 9:30 am – 5:30 pm (closed for lunch from 1:00 – 1:30 pm)\nClosed Sunday\nClosed on all major holidays\n\nAdditional COVID-19 testing resources can be found at dph.georgia.gov/covidtesting. \n 
URL:https://gwinnettcares.org/event/covid-19-vaccines-choa-duluth-2022-11-30/
LOCATION:Children’s Healthcare of Atlanta – Satellite Boulevard\, 2660 Satellite Boulevard\, Duluth\, GA\, 30096
CATEGORIES:Healthcare Resources
END:VEVENT
BEGIN:VEVENT
DTSTART;TZID=America/New_York:20221130T090000
DTEND;TZID=America/New_York:20221130T170000
DTSTAMP:20260425T154211
CREATED:20220706T194027Z
LAST-MODIFIED:20221208T151307Z
UID:20977-1669798800-1669827600@gwinnettcares.org
SUMMARY:COVID-19 Testing & Vaccines: Plaza Las Americas
DESCRIPTION:Drive-thru COVID-19 testing and vaccines are available at Santa Fe Mall in Duluth. Services include vaccinations for adults and children ages 5 and up\, boosters\, rapid tests\, and PCR COVID-19 testing. No appointment necessary. \nHours:  \n\nMonday – Friday: 9:00 am to 5:00 pm\nSaturday: 9:00 am to 4:00 pm\nClosed Sunday\n\nClosed for lunch from 12:30 pm to 1:00 pm. This location is closed on all major holidays.
URL:https://gwinnettcares.org/event/covid-19-testing-vaccines-plaza-las-americas-2022-11-30/
LOCATION:Plaza Las Americas\, 733 Pleasant Hill Road\, Lilburn\, GA\, 30047\, United States
CATEGORIES:Healthcare Resources
END:VEVENT
BEGIN:VEVENT
DTSTART;TZID=America/New_York:20221130T090000
DTEND;TZID=America/New_York:20221130T170000
DTSTAMP:20260425T154211
CREATED:20220118T205010Z
LAST-MODIFIED:20221213T124450Z
UID:12811-1669798800-1669827600@gwinnettcares.org
SUMMARY:DPH/Mako Medical Free COVID-19 Testing
DESCRIPTION:Georgia’s Department of Public Health\, in partnership with Mako Medical\, offers a mega testing site in Gwinnett located in the former Sears building at Gwinnett Place Mall. The address is 2100 Pleasant Hill Road\, Duluth. Testing is available Monday through Saturday from 9 am to 5 pm. Appointments can be scheduled here: https://mako.exchange/splash/GAmakotesting/#test-site-id \nAdditional COVID-19 testing resources can be found at dph.georgia.gov/covidtesting.
URL:https://gwinnettcares.org/event/dph-mako-medical-free-covid-19-testing-2022-11-30/
LOCATION:DPH Mako Medical Test Site Gwinnett Place\, 2100 Pleasant Hill Road\, Duluth\, GA\, 30096\, United States
CATEGORIES:Healthcare Resources,Need Help
ATTACH;FMTTYPE=image/jpeg:https://gwinnettcares.org/gwinnettcares/wp-content/uploads/sites/7/2022/01/image-2.jpeg
END:VEVENT
BEGIN:VEVENT
DTSTART;TZID=America/New_York:20221130T090000
DTEND;TZID=America/New_York:20221130T170000
DTSTAMP:20260425T154211
CREATED:20220118T202612Z
LAST-MODIFIED:20221213T123552Z
UID:12208-1669798800-1669827600@gwinnettcares.org
SUMMARY:DPH/Viral Solutions Free COVID-19 Testing
DESCRIPTION:This COVID-19 mega testing site is provided thanks to a partnership between Georgia’s Department of Public Health and Viral Solutions. Testing services will be available Monday through Saturday\, 9am to 5pm. The address is 2135 E. Main St.\, Snellville. Appointments can be made here: https://patientportal.advancedmd.com/…/onlines…/existing
URL:https://gwinnettcares.org/event/dph-viral-solutions-free-covid-19-testing-2022-11-30/
LOCATION:DPH Viral Solutions Test Site Snellville\, 2135 E Main Street\, Snellville\, GA\, 30078\, United States
CATEGORIES:Healthcare Resources,Need Help
ATTACH;FMTTYPE=image/png:https://gwinnettcares.org/gwinnettcares/wp-content/uploads/sites/7/2022/01/Screen-Shot-2022-01-18-at-3.16.39-PM.png
END:VEVENT
BEGIN:VEVENT
DTSTART;TZID=America/New_York:20221130T090000
DTEND;TZID=America/New_York:20221130T150000
DTSTAMP:20260425T154211
CREATED:20220114T175455Z
LAST-MODIFIED:20220114T175455Z
UID:19954-1669798800-1669820400@gwinnettcares.org
SUMMARY:COVID-19 Vaccines: Norcross Health Center
DESCRIPTION:Free COVID-19 vaccines are available for walk-ins at the Norcross Health Center Monday through Friday from 9:00 a.m. to 3:00 p.m.
URL:https://gwinnettcares.org/event/covid-19-vaccines-norcross-health-center-14-2022-11-30/
LOCATION:Norcross Health Center\, 5030 Georgia Belle Court\, Norcross\, GA\, 30093
CATEGORIES:Healthcare Resources
END:VEVENT
BEGIN:VEVENT
DTSTART;TZID=America/New_York:20221130T090000
DTEND;TZID=America/New_York:20221130T150000
DTSTAMP:20260425T154211
CREATED:20220114T175420Z
LAST-MODIFIED:20220114T175420Z
UID:13555-1669798800-1669820400@gwinnettcares.org
SUMMARY:COVID-19 Vaccines: Lawrenceville Health Center
DESCRIPTION:Free COVID-19 vaccines are available for walk-ins at the Lawrenceville Health Center Monday through Friday from 9:00 a.m. to 3:00 p.m.
URL:https://gwinnettcares.org/event/covid-19-vaccines-lawrenceville-health-center-14-2022-11-30/
LOCATION:Lawrenceville Health Center\, 455 Grayson Highway\, Suite 300\, Lawrenceville\, GA\, 30046
CATEGORIES:Healthcare Resources
END:VEVENT
BEGIN:VEVENT
DTSTART;TZID=America/New_York:20221130T080000
DTEND;TZID=America/New_York:20221130T153000
DTSTAMP:20260425T154211
CREATED:20220114T175305Z
LAST-MODIFIED:20221214T131432Z
UID:13203-1669795200-1669822200@gwinnettcares.org
SUMMARY:COVID-19 Vaccines: Good Sam
DESCRIPTION:COVID-19 vaccines are available by appointment or walk-in service at the Good Samaritan Health Center on Buford Highway in Norcross on weekdays at the following times:\n\n\n\nMonday – Wednesday\, 8:00 am – 3:30 pm\nThursday\, 12:00 pm – 6:30 pm\nFriday\, 8:00 am – 1:30 pm\n\n\n\n\nNo Saturday hours are available. Servicios ofrecidos en español. \n\n\n\n\n678-280-6630
URL:https://gwinnettcares.org/event/covid-19-vaccines-good-sam-14-2022-11-30/
LOCATION:Good Samaritan Health Center of West Gwinnett\, 5949 Buford Hwy.\, Norcross\, GA\, 30071
CATEGORIES:Healthcare Resources
END:VEVENT
BEGIN:VEVENT
DTSTART;TZID=America/New_York:20221129T100000
DTEND;TZID=America/New_York:20221129T120000
DTSTAMP:20260425T154211
CREATED:20221104T153254Z
LAST-MODIFIED:20221104T153254Z
UID:22252-1669716000-1669723200@gwinnettcares.org
SUMMARY:Drive-Thru Food Pantry: Gwinnett County Library Dacula Branch
DESCRIPTION:Gwinnett County Public Library\, in partnership with the Atlanta Community Food Bank\, will hold a free drive-through food pantry at the Dacula branch. Food will be distributed starting by 10:00 am on a first-come\, first-served basis while supplies last. \nEach package will contain produce and possibly some shelf-stable items. Products vary weekly. Distribution will be a drive-through process with volunteers bringing food packages out to cars. \nLearn more here.
URL:https://gwinnettcares.org/event/drive-thru-food-pantry-gwinnett-county-library-dacula-branch-2022-11-29/
LOCATION:Gwinnett County Public Library Dacula Branch\, 265 Dacula Road\, Dacula\, GA\, 30019\, United States
CATEGORIES:Food Resources
END:VEVENT
BEGIN:VEVENT
DTSTART;TZID=America/New_York:20221129T100000
DTEND;TZID=America/New_York:20221129T113000
DTSTAMP:20260425T154211
CREATED:20221004T123555Z
LAST-MODIFIED:20221004T123555Z
UID:22010-1669716000-1669721400@gwinnettcares.org
SUMMARY:Hope\, Fear and the Secret Life of Bees: It Only Takes One to Make an Impact!
DESCRIPTION:It only takes one – to launch a wave of learning\, to open a door and a mind\, to create a lifetime impact. Don’t miss this fast-paced\, powerful\, and media-filled presentation through the lyrical and inspirational storytelling of Leading to Change as they share REAL stories and share REAL strategies to build the leaders around each of us. Learn more here. \n\nRegistration closes on Monday\, November 28 at 12 pm.
URL:https://gwinnettcares.org/event/hope-fear-and-the-secret-life-of-bees-it-only-takes-one-to-make-an-impact/
LOCATION:GA
CATEGORIES:General
ORGANIZER;CN="GUIDE":MAILTO:Training@guideinc.org
END:VEVENT
BEGIN:VEVENT
DTSTART;TZID=America/New_York:20221129T093000
DTEND;TZID=America/New_York:20221129T173000
DTSTAMP:20260425T154211
CREATED:20220506T213339Z
LAST-MODIFIED:20221213T124409Z
UID:21106-1669714200-1669743000@gwinnettcares.org
SUMMARY:COVID-19 Testing & Vaccines: CHOA Duluth
DESCRIPTION:Children’s Vaccines are here! \nChildren’s Healthcare of Atlanta\, in partnership with COVID Care GA\, are now offering COVID-19 vaccinations for children ages 5 and up and adults\, as well as boosters and PCR COVID-19 testing\, in the parking lot of Children’s Healthcare of Atlanta at Satellite Boulevard. Pre-registration is not required\, but appointments can be made at www.covidcarega.com. \nPlease note\, vaccine availability is subject to change based on supply. This site may close early if maximum capacity is reached or if there is inclement weather. \nHours:  \n\nMonday through Saturday\, 9:30 am – 5:30 pm (closed for lunch from 1:00 – 1:30 pm)\nClosed Sunday\nClosed on all major holidays\n\nAdditional COVID-19 testing resources can be found at dph.georgia.gov/covidtesting. \n 
URL:https://gwinnettcares.org/event/covid-19-vaccines-choa-duluth-2022-11-29/
LOCATION:Children’s Healthcare of Atlanta – Satellite Boulevard\, 2660 Satellite Boulevard\, Duluth\, GA\, 30096
CATEGORIES:Healthcare Resources
END:VEVENT
BEGIN:VEVENT
DTSTART;TZID=America/New_York:20221129T090000
DTEND;TZID=America/New_York:20221129T170000
DTSTAMP:20260425T154211
CREATED:20220706T194027Z
LAST-MODIFIED:20221208T151306Z
UID:20976-1669712400-1669741200@gwinnettcares.org
SUMMARY:COVID-19 Testing & Vaccines: Plaza Las Americas
DESCRIPTION:Drive-thru COVID-19 testing and vaccines are available at Santa Fe Mall in Duluth. Services include vaccinations for adults and children ages 5 and up\, boosters\, rapid tests\, and PCR COVID-19 testing. No appointment necessary. \nHours:  \n\nMonday – Friday: 9:00 am to 5:00 pm\nSaturday: 9:00 am to 4:00 pm\nClosed Sunday\n\nClosed for lunch from 12:30 pm to 1:00 pm. This location is closed on all major holidays.
URL:https://gwinnettcares.org/event/covid-19-testing-vaccines-plaza-las-americas-2022-11-29/
LOCATION:Plaza Las Americas\, 733 Pleasant Hill Road\, Lilburn\, GA\, 30047\, United States
CATEGORIES:Healthcare Resources
END:VEVENT
BEGIN:VEVENT
DTSTART;TZID=America/New_York:20221129T090000
DTEND;TZID=America/New_York:20221129T170000
DTSTAMP:20260425T154211
CREATED:20220706T193234Z
LAST-MODIFIED:20221213T124321Z
UID:20676-1669712400-1669741200@gwinnettcares.org
SUMMARY:COVID-19 Testing & Vaccines: Santa Fe Mall
DESCRIPTION:Drive-thru COVID-19 testing and vaccines are available at Santa Fe Mall in Duluth. Services include vaccinations for adults and children ages 5 and up\, boosters\, rapid tests\, and PCR COVID-19 testing. No appointment necessary. \nHours:  \n\nMonday & Tuesday: 9:00 am to 5:00 pm\nWednesday: Closed\nThursday & Friday: 9:00 am to 5:00 pm\nSaturday & Sunday: 9:00 am to 4:00 pm\n\nClosed for lunch from 12:30 pm to 1:00 pm. This location is closed on all major holidays. \nAdditional COVID-19 testing resources can be found at dph.georgia.gov/covidtesting.
URL:https://gwinnettcares.org/event/covid-19-testing-vaccines-santa-fe-mall-2022-11-29/
LOCATION:Santa Fe Mall\, 3750 Venture Drive\, Duluth\, GA\, 30096\, United States
CATEGORIES:Healthcare Resources
END:VEVENT
BEGIN:VEVENT
DTSTART;TZID=America/New_York:20221129T090000
DTEND;TZID=America/New_York:20221129T170000
DTSTAMP:20260425T154211
CREATED:20220118T205010Z
LAST-MODIFIED:20221213T124448Z
UID:12581-1669712400-1669741200@gwinnettcares.org
SUMMARY:DPH/Mako Medical Free COVID-19 Testing
DESCRIPTION:Georgia’s Department of Public Health\, in partnership with Mako Medical\, offers a mega testing site in Gwinnett located in the former Sears building at Gwinnett Place Mall. The address is 2100 Pleasant Hill Road\, Duluth. Testing is available Monday through Saturday from 9 am to 5 pm. Appointments can be scheduled here: https://mako.exchange/splash/GAmakotesting/#test-site-id \nAdditional COVID-19 testing resources can be found at dph.georgia.gov/covidtesting.
URL:https://gwinnettcares.org/event/dph-mako-medical-free-covid-19-testing-2022-11-29/
LOCATION:DPH Mako Medical Test Site Gwinnett Place\, 2100 Pleasant Hill Road\, Duluth\, GA\, 30096\, United States
CATEGORIES:Healthcare Resources,Need Help
ATTACH;FMTTYPE=image/jpeg:https://gwinnettcares.org/gwinnettcares/wp-content/uploads/sites/7/2022/01/image-2.jpeg
END:VEVENT
BEGIN:VEVENT
DTSTART;TZID=America/New_York:20221129T090000
DTEND;TZID=America/New_York:20221129T170000
DTSTAMP:20260425T154211
CREATED:20220118T202612Z
LAST-MODIFIED:20221213T123551Z
UID:12207-1669712400-1669741200@gwinnettcares.org
SUMMARY:DPH/Viral Solutions Free COVID-19 Testing
DESCRIPTION:This COVID-19 mega testing site is provided thanks to a partnership between Georgia’s Department of Public Health and Viral Solutions. Testing services will be available Monday through Saturday\, 9am to 5pm. The address is 2135 E. Main St.\, Snellville. Appointments can be made here: https://patientportal.advancedmd.com/…/onlines…/existing
URL:https://gwinnettcares.org/event/dph-viral-solutions-free-covid-19-testing-2022-11-29/
LOCATION:DPH Viral Solutions Test Site Snellville\, 2135 E Main Street\, Snellville\, GA\, 30078\, United States
CATEGORIES:Healthcare Resources,Need Help
ATTACH;FMTTYPE=image/png:https://gwinnettcares.org/gwinnettcares/wp-content/uploads/sites/7/2022/01/Screen-Shot-2022-01-18-at-3.16.39-PM.png
END:VEVENT
BEGIN:VEVENT
DTSTART;TZID=America/New_York:20221129T090000
DTEND;TZID=America/New_York:20221129T150000
DTSTAMP:20260425T154211
CREATED:20220114T175455Z
LAST-MODIFIED:20220114T175455Z
UID:19953-1669712400-1669734000@gwinnettcares.org
SUMMARY:COVID-19 Vaccines: Norcross Health Center
DESCRIPTION:Free COVID-19 vaccines are available for walk-ins at the Norcross Health Center Monday through Friday from 9:00 a.m. to 3:00 p.m.
URL:https://gwinnettcares.org/event/covid-19-vaccines-norcross-health-center-14-2022-11-29/
LOCATION:Norcross Health Center\, 5030 Georgia Belle Court\, Norcross\, GA\, 30093
CATEGORIES:Healthcare Resources
END:VEVENT
BEGIN:VEVENT
DTSTART;TZID=America/New_York:20221129T090000
DTEND;TZID=America/New_York:20221129T150000
DTSTAMP:20260425T154211
CREATED:20220114T175420Z
LAST-MODIFIED:20220114T175420Z
UID:13553-1669712400-1669734000@gwinnettcares.org
SUMMARY:COVID-19 Vaccines: Lawrenceville Health Center
DESCRIPTION:Free COVID-19 vaccines are available for walk-ins at the Lawrenceville Health Center Monday through Friday from 9:00 a.m. to 3:00 p.m.
URL:https://gwinnettcares.org/event/covid-19-vaccines-lawrenceville-health-center-14-2022-11-29/
LOCATION:Lawrenceville Health Center\, 455 Grayson Highway\, Suite 300\, Lawrenceville\, GA\, 30046
CATEGORIES:Healthcare Resources
END:VEVENT
BEGIN:VEVENT
DTSTART;TZID=America/New_York:20221129T080000
DTEND;TZID=America/New_York:20221129T153000
DTSTAMP:20260425T154211
CREATED:20220114T175305Z
LAST-MODIFIED:20221214T131432Z
UID:15420-1669708800-1669735800@gwinnettcares.org
SUMMARY:COVID-19 Vaccines: Good Sam
DESCRIPTION:COVID-19 vaccines are available by appointment or walk-in service at the Good Samaritan Health Center on Buford Highway in Norcross on weekdays at the following times:\n\n\n\nMonday – Wednesday\, 8:00 am – 3:30 pm\nThursday\, 12:00 pm – 6:30 pm\nFriday\, 8:00 am – 1:30 pm\n\n\n\n\nNo Saturday hours are available. Servicios ofrecidos en español. \n\n\n\n\n678-280-6630
URL:https://gwinnettcares.org/event/covid-19-vaccines-good-sam-14-2022-11-29/
LOCATION:Good Samaritan Health Center of West Gwinnett\, 5949 Buford Hwy.\, Norcross\, GA\, 30071
CATEGORIES:Healthcare Resources
END:VEVENT
BEGIN:VEVENT
DTSTART;TZID=America/New_York:20221128T100000
DTEND;TZID=America/New_York:20221128T125500
DTSTAMP:20260425T154211
CREATED:20220114T175532Z
LAST-MODIFIED:20221213T124612Z
UID:14049-1669629600-1669640100@gwinnettcares.org
SUMMARY:COVID-19 Testing: Baitul Ata Mosque
DESCRIPTION:Free COVID-19 testing is available every Monday\, Wednesday\, and Saturday beginning at 10:00 am. The final appointment of the day is at 12:55 pm. Register here. \nAdditional COVID-19 testing resources can be found at dph.georgia.gov/covidtesting.
URL:https://gwinnettcares.org/event/covid-19-testing-baitul-ata-mosque-8-2022-11-28/
LOCATION:Baitul Ata Mosque\, 1800 Willow Trail Parkway\, Norcross\, GA
CATEGORIES:Healthcare Resources
END:VEVENT
BEGIN:VEVENT
DTSTART;TZID=America/New_York:20221128T093000
DTEND;TZID=America/New_York:20221128T173000
DTSTAMP:20260425T154211
CREATED:20220506T213339Z
LAST-MODIFIED:20221213T124408Z
UID:21105-1669627800-1669656600@gwinnettcares.org
SUMMARY:COVID-19 Testing & Vaccines: CHOA Duluth
DESCRIPTION:Children’s Vaccines are here! \nChildren’s Healthcare of Atlanta\, in partnership with COVID Care GA\, are now offering COVID-19 vaccinations for children ages 5 and up and adults\, as well as boosters and PCR COVID-19 testing\, in the parking lot of Children’s Healthcare of Atlanta at Satellite Boulevard. Pre-registration is not required\, but appointments can be made at www.covidcarega.com. \nPlease note\, vaccine availability is subject to change based on supply. This site may close early if maximum capacity is reached or if there is inclement weather. \nHours:  \n\nMonday through Saturday\, 9:30 am – 5:30 pm (closed for lunch from 1:00 – 1:30 pm)\nClosed Sunday\nClosed on all major holidays\n\nAdditional COVID-19 testing resources can be found at dph.georgia.gov/covidtesting. \n 
URL:https://gwinnettcares.org/event/covid-19-vaccines-choa-duluth-2022-11-28/
LOCATION:Children’s Healthcare of Atlanta – Satellite Boulevard\, 2660 Satellite Boulevard\, Duluth\, GA\, 30096
CATEGORIES:Healthcare Resources
END:VEVENT
BEGIN:VEVENT
DTSTART;TZID=America/New_York:20221128T090000
DTEND;TZID=America/New_York:20221128T170000
DTSTAMP:20260425T154211
CREATED:20220706T194027Z
LAST-MODIFIED:20221208T151303Z
UID:20975-1669626000-1669654800@gwinnettcares.org
SUMMARY:COVID-19 Testing & Vaccines: Plaza Las Americas
DESCRIPTION:Drive-thru COVID-19 testing and vaccines are available at Santa Fe Mall in Duluth. Services include vaccinations for adults and children ages 5 and up\, boosters\, rapid tests\, and PCR COVID-19 testing. No appointment necessary. \nHours:  \n\nMonday – Friday: 9:00 am to 5:00 pm\nSaturday: 9:00 am to 4:00 pm\nClosed Sunday\n\nClosed for lunch from 12:30 pm to 1:00 pm. This location is closed on all major holidays.
URL:https://gwinnettcares.org/event/covid-19-testing-vaccines-plaza-las-americas-2022-11-28/
LOCATION:Plaza Las Americas\, 733 Pleasant Hill Road\, Lilburn\, GA\, 30047\, United States
CATEGORIES:Healthcare Resources
END:VEVENT
BEGIN:VEVENT
DTSTART;TZID=America/New_York:20221128T090000
DTEND;TZID=America/New_York:20221128T170000
DTSTAMP:20260425T154211
CREATED:20220706T193234Z
LAST-MODIFIED:20221213T124320Z
UID:20675-1669626000-1669654800@gwinnettcares.org
SUMMARY:COVID-19 Testing & Vaccines: Santa Fe Mall
DESCRIPTION:Drive-thru COVID-19 testing and vaccines are available at Santa Fe Mall in Duluth. Services include vaccinations for adults and children ages 5 and up\, boosters\, rapid tests\, and PCR COVID-19 testing. No appointment necessary. \nHours:  \n\nMonday & Tuesday: 9:00 am to 5:00 pm\nWednesday: Closed\nThursday & Friday: 9:00 am to 5:00 pm\nSaturday & Sunday: 9:00 am to 4:00 pm\n\nClosed for lunch from 12:30 pm to 1:00 pm. This location is closed on all major holidays. \nAdditional COVID-19 testing resources can be found at dph.georgia.gov/covidtesting.
URL:https://gwinnettcares.org/event/covid-19-testing-vaccines-santa-fe-mall-2022-11-28/
LOCATION:Santa Fe Mall\, 3750 Venture Drive\, Duluth\, GA\, 30096\, United States
CATEGORIES:Healthcare Resources
END:VEVENT
BEGIN:VEVENT
DTSTART;TZID=America/New_York:20221128T090000
DTEND;TZID=America/New_York:20221128T170000
DTSTAMP:20260425T154211
CREATED:20220118T205010Z
LAST-MODIFIED:20221213T124448Z
UID:12810-1669626000-1669654800@gwinnettcares.org
SUMMARY:DPH/Mako Medical Free COVID-19 Testing
DESCRIPTION:Georgia’s Department of Public Health\, in partnership with Mako Medical\, offers a mega testing site in Gwinnett located in the former Sears building at Gwinnett Place Mall. The address is 2100 Pleasant Hill Road\, Duluth. Testing is available Monday through Saturday from 9 am to 5 pm. Appointments can be scheduled here: https://mako.exchange/splash/GAmakotesting/#test-site-id \nAdditional COVID-19 testing resources can be found at dph.georgia.gov/covidtesting.
URL:https://gwinnettcares.org/event/dph-mako-medical-free-covid-19-testing-2022-11-28/
LOCATION:DPH Mako Medical Test Site Gwinnett Place\, 2100 Pleasant Hill Road\, Duluth\, GA\, 30096\, United States
CATEGORIES:Healthcare Resources,Need Help
ATTACH;FMTTYPE=image/jpeg:https://gwinnettcares.org/gwinnettcares/wp-content/uploads/sites/7/2022/01/image-2.jpeg
END:VEVENT
BEGIN:VEVENT
DTSTART;TZID=America/New_York:20221128T090000
DTEND;TZID=America/New_York:20221128T170000
DTSTAMP:20260425T154211
CREATED:20220118T202612Z
LAST-MODIFIED:20221213T123551Z
UID:12206-1669626000-1669654800@gwinnettcares.org
SUMMARY:DPH/Viral Solutions Free COVID-19 Testing
DESCRIPTION:This COVID-19 mega testing site is provided thanks to a partnership between Georgia’s Department of Public Health and Viral Solutions. Testing services will be available Monday through Saturday\, 9am to 5pm. The address is 2135 E. Main St.\, Snellville. Appointments can be made here: https://patientportal.advancedmd.com/…/onlines…/existing
URL:https://gwinnettcares.org/event/dph-viral-solutions-free-covid-19-testing-2022-11-28/
LOCATION:DPH Viral Solutions Test Site Snellville\, 2135 E Main Street\, Snellville\, GA\, 30078\, United States
CATEGORIES:Healthcare Resources,Need Help
ATTACH;FMTTYPE=image/png:https://gwinnettcares.org/gwinnettcares/wp-content/uploads/sites/7/2022/01/Screen-Shot-2022-01-18-at-3.16.39-PM.png
END:VEVENT
BEGIN:VEVENT
DTSTART;TZID=America/New_York:20221128T090000
DTEND;TZID=America/New_York:20221128T150000
DTSTAMP:20260425T154211
CREATED:20220114T175455Z
LAST-MODIFIED:20220114T175455Z
UID:19952-1669626000-1669647600@gwinnettcares.org
SUMMARY:COVID-19 Vaccines: Norcross Health Center
DESCRIPTION:Free COVID-19 vaccines are available for walk-ins at the Norcross Health Center Monday through Friday from 9:00 a.m. to 3:00 p.m.
URL:https://gwinnettcares.org/event/covid-19-vaccines-norcross-health-center-14-2022-11-28/
LOCATION:Norcross Health Center\, 5030 Georgia Belle Court\, Norcross\, GA\, 30093
CATEGORIES:Healthcare Resources
END:VEVENT
BEGIN:VEVENT
DTSTART;TZID=America/New_York:20221128T090000
DTEND;TZID=America/New_York:20221128T150000
DTSTAMP:20260425T154211
CREATED:20220114T175420Z
LAST-MODIFIED:20220114T175420Z
UID:13551-1669626000-1669647600@gwinnettcares.org
SUMMARY:COVID-19 Vaccines: Lawrenceville Health Center
DESCRIPTION:Free COVID-19 vaccines are available for walk-ins at the Lawrenceville Health Center Monday through Friday from 9:00 a.m. to 3:00 p.m.
URL:https://gwinnettcares.org/event/covid-19-vaccines-lawrenceville-health-center-14-2022-11-28/
LOCATION:Lawrenceville Health Center\, 455 Grayson Highway\, Suite 300\, Lawrenceville\, GA\, 30046
CATEGORIES:Healthcare Resources
END:VEVENT
BEGIN:VEVENT
DTSTART;TZID=America/New_York:20221128T080000
DTEND;TZID=America/New_York:20221128T153000
DTSTAMP:20260425T154211
CREATED:20220114T175305Z
LAST-MODIFIED:20221214T131431Z
UID:13202-1669622400-1669649400@gwinnettcares.org
SUMMARY:COVID-19 Vaccines: Good Sam
DESCRIPTION:COVID-19 vaccines are available by appointment or walk-in service at the Good Samaritan Health Center on Buford Highway in Norcross on weekdays at the following times:\n\n\n\nMonday – Wednesday\, 8:00 am – 3:30 pm\nThursday\, 12:00 pm – 6:30 pm\nFriday\, 8:00 am – 1:30 pm\n\n\n\n\nNo Saturday hours are available. Servicios ofrecidos en español. \n\n\n\n\n678-280-6630
URL:https://gwinnettcares.org/event/covid-19-vaccines-good-sam-14-2022-11-28/
LOCATION:Good Samaritan Health Center of West Gwinnett\, 5949 Buford Hwy.\, Norcross\, GA\, 30071
CATEGORIES:Healthcare Resources
END:VEVENT
END:VCALENDAR