BEGIN:VCALENDAR
VERSION:2.0
PRODID:-//Gwinnett Cares - ECPv6.2.4//NONSGML v1.0//EN
CALSCALE:GREGORIAN
METHOD:PUBLISH
X-ORIGINAL-URL:https://gwinnettcares.org
X-WR-CALDESC:Events for Gwinnett Cares
REFRESH-INTERVAL;VALUE=DURATION:PT1H
X-Robots-Tag:noindex
X-PUBLISHED-TTL:PT1H
BEGIN:VTIMEZONE
TZID:America/New_York
BEGIN:DAYLIGHT
TZOFFSETFROM:-0500
TZOFFSETTO:-0400
TZNAME:EDT
DTSTART:20220313T070000
END:DAYLIGHT
BEGIN:STANDARD
TZOFFSETFROM:-0400
TZOFFSETTO:-0500
TZNAME:EST
DTSTART:20221106T060000
END:STANDARD
END:VTIMEZONE
BEGIN:VEVENT
DTSTART;TZID=America/New_York:20220121T080000
DTEND;TZID=America/New_York:20220121T133000
DTSTAMP:20260424T102540
CREATED:20220113T213341Z
LAST-MODIFIED:20220113T213341Z
UID:11059-1642752000-1642771800@gwinnettcares.org
SUMMARY:COVID-19 Vaccines: Good Sam
DESCRIPTION:COVID-19 vaccines are available by appointment or walk-in service at the Good Samaritan Health Center on Buford Highway in Norcross on weekdays at the following times:\n\n\n\n\nMonday – Wednesday\, 8:00 am – 3:30 pm\nThursday\, 12:00 pm – 6:30 pm\nFriday\, 8:00 am – 1:30 pm\n\n\n\n\n\n\nNo Saturday hours are available. Servicios ofrecidos en español. \n\n\n\n\n678-280-6630
URL:https://gwinnettcares.org/event/covid-19-vaccines-good-sam-8/
LOCATION:Good Samaritan Health Center of West Gwinnett\, 5949 Buford Hwy.\, Norcross\, GA\, 30071
CATEGORIES:Healthcare Resources
END:VEVENT
BEGIN:VEVENT
DTSTART;TZID=America/New_York:20220121T080000
DTEND;TZID=America/New_York:20220121T200000
DTSTAMP:20260424T102540
CREATED:20220113T213250Z
LAST-MODIFIED:20220113T213250Z
UID:11057-1642752000-1642795200@gwinnettcares.org
SUMMARY:COVID-19 Vaccines: Piedmont Eastside
DESCRIPTION:Free COVID-19 vaccines are available at Piedmont Eastside every Friday from 8:00 am to 8:00 pm\, with drive-thru vaccines available from 5:00 pm to 8:00 pm. Walk-ins are welcome\, or you can schedule an appointment here.
URL:https://gwinnettcares.org/event/covid-19-vaccines-piedmont-eastside-3/
LOCATION:Piedmont Eastside\, 1800 Tree Lane\, Suite 250\, Snellville\, GA\, 30078
CATEGORIES:Healthcare Resources
END:VEVENT
BEGIN:VEVENT
DTSTART;TZID=America/New_York:20220121T090000
DTEND;TZID=America/New_York:20220121T150000
DTSTAMP:20260424T102540
CREATED:20220113T213522Z
LAST-MODIFIED:20220113T213522Z
UID:11063-1642755600-1642777200@gwinnettcares.org
SUMMARY:COVID-19 Vaccines: Lawrenceville Health Center
DESCRIPTION:Free COVID-19 vaccines are available for walk-ins at the Lawrenceville Health Center Monday through Friday from 9:00 a.m. to 3:00 p.m.
URL:https://gwinnettcares.org/event/covid-19-vaccines-lawrenceville-health-center-8/
LOCATION:Lawrenceville Health Center\, 455 Grayson Highway\, Suite 300\, Lawrenceville\, GA\, 30046
CATEGORIES:Healthcare Resources
END:VEVENT
BEGIN:VEVENT
DTSTART;TZID=America/New_York:20220121T090000
DTEND;TZID=America/New_York:20220121T150000
DTSTAMP:20260424T102540
CREATED:20220113T213601Z
LAST-MODIFIED:20220113T213601Z
UID:11065-1642755600-1642777200@gwinnettcares.org
SUMMARY:COVID-19 Vaccines: Norcross Health Center
DESCRIPTION:Free COVID-19 vaccines are available for walk-ins at the Norcross Health Center Monday through Friday from 9:00 a.m. to 3:00 p.m.
URL:https://gwinnettcares.org/event/covid-19-vaccines-norcross-health-center-8/
LOCATION:Norcross Health Center\, 5030 Georgia Belle Court\, Norcross\, GA\, 30093
CATEGORIES:Healthcare Resources
END:VEVENT
BEGIN:VEVENT
DTSTART;TZID=America/New_York:20220121T090000
DTEND;TZID=America/New_York:20220121T164500
DTSTAMP:20260424T102540
CREATED:20220113T213433Z
LAST-MODIFIED:20220113T213433Z
UID:11061-1642755600-1642783500@gwinnettcares.org
SUMMARY:COVID-19 Vaccines: Gwinnett Place
DESCRIPTION:Free COVID-19 vaccines are available by appointment or for walk-ins inside the former Sears location at Gwinnett Place Mall Monday through Saturday from 9:00 a.m. to 4:45 p.m. Closed from 1-2 pm for lunch. You can schedule an appointment here.
URL:https://gwinnettcares.org/event/covid-19-vaccines-gwinnett-place-9/
LOCATION:Gwinnett Place Mall\, 2100 Pleasant Hill Rd\, Duluth\, GA\, 30096
CATEGORIES:Healthcare Resources
END:VEVENT
BEGIN:VEVENT
DTSTART;TZID=America/New_York:20220121T090000
DTEND;TZID=America/New_York:20220121T170000
DTSTAMP:20260424T102540
CREATED:20220118T202612Z
LAST-MODIFIED:20221213T123310Z
UID:11246-1642755600-1642784400@gwinnettcares.org
SUMMARY:DPH/Viral Solutions Free COVID-19 Testing
DESCRIPTION:This COVID-19 mega testing site is provided thanks to a partnership between Georgia’s Department of Public Health and Viral Solutions. Testing services will be available Monday through Saturday\, 9am to 5pm. The address is 2135 E. Main St.\, Snellville. Appointments can be made here: https://patientportal.advancedmd.com/…/onlines…/existing
URL:https://gwinnettcares.org/event/dph-viral-solutions-free-covid-19-testing/
LOCATION:DPH Viral Solutions Test Site Snellville\, 2135 E Main Street\, Snellville\, GA\, 30078\, United States
CATEGORIES:Healthcare Resources,Need Help
ATTACH;FMTTYPE=image/png:https://gwinnettcares.org/gwinnettcares/wp-content/uploads/sites/7/2022/01/Screen-Shot-2022-01-18-at-3.16.39-PM.png
END:VEVENT
BEGIN:VEVENT
DTSTART;TZID=America/New_York:20220121T090000
DTEND;TZID=America/New_York:20220121T170000
DTSTAMP:20260424T102540
CREATED:20220118T205010Z
LAST-MODIFIED:20221213T123810Z
UID:12588-1642755600-1642784400@gwinnettcares.org
SUMMARY:DPH/Mako Medical Free COVID-19 Testing
DESCRIPTION:Georgia’s Department of Public Health\, in partnership with Mako Medical\, offers a mega testing site in Gwinnett located in the former Sears building at Gwinnett Place Mall. The address is 2100 Pleasant Hill Road\, Duluth. Testing is available Monday through Saturday from 9 am to 5 pm. Appointments can be scheduled here: https://mako.exchange/splash/GAmakotesting/#test-site-id \nAdditional COVID-19 testing resources can be found at dph.georgia.gov/covidtesting.
URL:https://gwinnettcares.org/event/dph-mako-medical-free-covid-19-testing-2022-01-21/
LOCATION:DPH Mako Medical Test Site Gwinnett Place\, 2100 Pleasant Hill Road\, Duluth\, GA\, 30096\, United States
CATEGORIES:Healthcare Resources,Need Help
ATTACH;FMTTYPE=image/jpeg:https://gwinnettcares.org/gwinnettcares/wp-content/uploads/sites/7/2022/01/image-2.jpeg
END:VEVENT
BEGIN:VEVENT
DTSTART;TZID=America/New_York:20220121T110000
DTEND;TZID=America/New_York:20220121T190000
DTSTAMP:20260424T102540
CREATED:20220113T213644Z
LAST-MODIFIED:20220113T213644Z
UID:11067-1642762800-1642791600@gwinnettcares.org
SUMMARY:Pediatric COVID-19 Vaccines: CHOA Duluth
DESCRIPTION:Children’s Vaccines are here! \nChildren’s Healthcare of Atlanta\, in partnership with COVID Care GA\, are now offering COVID-19 vaccinations for children ages 5 and up in the parking lot of Children’s at Satellite Boulevard. Siblings and caregivers may also be vaccinated. Pre-registration is not required\, but appointments can be made at www.covidcarega.com. Please note\, vaccine availability is subject to change based on supply. \nHours:  \n\nMonday through Saturday\, 11:00 am – 7:00 pm (closed for lunch from 1:00 – 1:30 pm)\nClosed on Sundays
URL:https://gwinnettcares.org/event/pediatric-covid-19-vaccines-choa-duluth-9/
LOCATION:Children’s Healthcare of Atlanta – Satellite Boulevard\, 2660 Satellite Boulevard\, Duluth\, GA\, 30096
CATEGORIES:Healthcare Resources
END:VEVENT
BEGIN:VEVENT
DTSTART;TZID=America/New_York:20220122T080000
DTEND;TZID=America/New_York:20220122T170000
DTSTAMP:20260424T102540
CREATED:20220113T214239Z
LAST-MODIFIED:20220113T214239Z
UID:11069-1642838400-1642870800@gwinnettcares.org
SUMMARY:COVID-19 Vaccines: Piedmont Eastside
DESCRIPTION:Free COVID-19 vaccines are available at Piedmont Eastside every Saturday from 8:00 am to 5:00 pm. Walk-ins are welcome\, or you can schedule an appointment here.
URL:https://gwinnettcares.org/event/covid-19-vaccines-piedmont-eastside-4/
LOCATION:Piedmont Eastside\, 1800 Tree Lane\, Suite 250\, Snellville\, GA\, 30078
CATEGORIES:Healthcare Resources
END:VEVENT
BEGIN:VEVENT
DTSTART;TZID=America/New_York:20220122T090000
DTEND;TZID=America/New_York:20220122T164500
DTSTAMP:20260424T102540
CREATED:20220113T214333Z
LAST-MODIFIED:20220113T214333Z
UID:11071-1642842000-1642869900@gwinnettcares.org
SUMMARY:COVID-19 Vaccines: Gwinnett Place
DESCRIPTION:Free COVID-19 vaccines are available by appointment or for walk-ins inside the former Sears location at Gwinnett Place Mall Monday through Saturday from 9:00 a.m. to 4:45 p.m. Closed from 1-2 pm for lunch. You can schedule an appointment here.
URL:https://gwinnettcares.org/event/covid-19-vaccines-gwinnett-place-10/
LOCATION:Gwinnett Place Mall\, 2100 Pleasant Hill Rd\, Duluth\, GA\, 30096
CATEGORIES:Healthcare Resources
END:VEVENT
BEGIN:VEVENT
DTSTART;TZID=America/New_York:20220122T090000
DTEND;TZID=America/New_York:20220122T170000
DTSTAMP:20260424T102540
CREATED:20220118T202612Z
LAST-MODIFIED:20221213T123322Z
UID:11262-1642842000-1642870800@gwinnettcares.org
SUMMARY:DPH/Viral Solutions Free COVID-19 Testing
DESCRIPTION:This COVID-19 mega testing site is provided thanks to a partnership between Georgia’s Department of Public Health and Viral Solutions. Testing services will be available Monday through Saturday\, 9am to 5pm. The address is 2135 E. Main St.\, Snellville. Appointments can be made here: https://patientportal.advancedmd.com/…/onlines…/existing
URL:https://gwinnettcares.org/event/dph-viral-solutions-free-covid-19-testing-2022-01-22/
LOCATION:DPH Viral Solutions Test Site Snellville\, 2135 E Main Street\, Snellville\, GA\, 30078\, United States
CATEGORIES:Healthcare Resources,Need Help
ATTACH;FMTTYPE=image/png:https://gwinnettcares.org/gwinnettcares/wp-content/uploads/sites/7/2022/01/Screen-Shot-2022-01-18-at-3.16.39-PM.png
END:VEVENT
BEGIN:VEVENT
DTSTART;TZID=America/New_York:20220122T090000
DTEND;TZID=America/New_York:20220122T170000
DTSTAMP:20260424T102540
CREATED:20220118T205010Z
LAST-MODIFIED:20221213T123811Z
UID:12589-1642842000-1642870800@gwinnettcares.org
SUMMARY:DPH/Mako Medical Free COVID-19 Testing
DESCRIPTION:Georgia’s Department of Public Health\, in partnership with Mako Medical\, offers a mega testing site in Gwinnett located in the former Sears building at Gwinnett Place Mall. The address is 2100 Pleasant Hill Road\, Duluth. Testing is available Monday through Saturday from 9 am to 5 pm. Appointments can be scheduled here: https://mako.exchange/splash/GAmakotesting/#test-site-id \nAdditional COVID-19 testing resources can be found at dph.georgia.gov/covidtesting.
URL:https://gwinnettcares.org/event/dph-mako-medical-free-covid-19-testing-2022-01-22/
LOCATION:DPH Mako Medical Test Site Gwinnett Place\, 2100 Pleasant Hill Road\, Duluth\, GA\, 30096\, United States
CATEGORIES:Healthcare Resources,Need Help
ATTACH;FMTTYPE=image/jpeg:https://gwinnettcares.org/gwinnettcares/wp-content/uploads/sites/7/2022/01/image-2.jpeg
END:VEVENT
BEGIN:VEVENT
DTSTART;TZID=America/New_York:20220122T100000
DTEND;TZID=America/New_York:20220122T125500
DTSTAMP:20260424T102540
CREATED:20220113T214418Z
LAST-MODIFIED:20220113T214418Z
UID:11073-1642845600-1642856100@gwinnettcares.org
SUMMARY:COVID-19 Testing: Baitul Ata Mosque
DESCRIPTION:Free COVID-19 testing is available every Monday\, Wednesday\, and Saturday beginning at 10:00 am. The final appointment of the day is at 12:55 pm. Register here.
URL:https://gwinnettcares.org/event/covid-19-testing-baitul-ata-mosque-4/
LOCATION:Baitul Ata Mosque\, 1800 Willow Trail Parkway\, Norcross\, GA
CATEGORIES:Healthcare Resources
END:VEVENT
BEGIN:VEVENT
DTSTART;TZID=America/New_York:20220122T110000
DTEND;TZID=America/New_York:20220122T190000
DTSTAMP:20260424T102540
CREATED:20220113T214504Z
LAST-MODIFIED:20220113T214504Z
UID:11075-1642849200-1642878000@gwinnettcares.org
SUMMARY:Pediatric COVID-19 Vaccines: CHOA Duluth
DESCRIPTION:Children’s Vaccines are here! \nChildren’s Healthcare of Atlanta\, in partnership with COVID Care GA\, are now offering COVID-19 vaccinations for children ages 5 and up in the parking lot of Children’s at Satellite Boulevard. Siblings and caregivers may also be vaccinated. Pre-registration is not required\, but appointments can be made at www.covidcarega.com. Please note\, vaccine availability is subject to change based on supply. \nHours:  \n\nMonday through Saturday\, 11:00 am – 7:00 pm (closed for lunch from 1:00 – 1:30 pm)\nClosed on Sundays
URL:https://gwinnettcares.org/event/pediatric-covid-19-vaccines-choa-duluth-10/
LOCATION:Children’s Healthcare of Atlanta – Satellite Boulevard\, 2660 Satellite Boulevard\, Duluth\, GA\, 30096
CATEGORIES:Healthcare Resources
END:VEVENT
BEGIN:VEVENT
DTSTART;TZID=America/New_York:20220124T080000
DTEND;TZID=America/New_York:20220124T153000
DTSTAMP:20260424T102540
CREATED:20220114T161746Z
LAST-MODIFIED:20220114T161746Z
UID:11150-1643011200-1643038200@gwinnettcares.org
SUMMARY:COVID-19 Vaccines: Good Sam
DESCRIPTION:COVID-19 vaccines are available by appointment or walk-in service at the Good Samaritan Health Center on Buford Highway in Norcross on weekdays at the following times:\n\n\n\n\nMonday – Wednesday\, 8:00 am – 3:30 pm\nThursday\, 12:00 pm – 6:30 pm\nFriday\, 8:00 am – 1:30 pm\n\n\n\n\n\n\nNo Saturday hours are available. Servicios ofrecidos en español. \n\n\n\n\n678-280-6630
URL:https://gwinnettcares.org/event/covid-19-vaccines-good-sam-9/
LOCATION:Good Samaritan Health Center of West Gwinnett\, 5949 Buford Hwy.\, Norcross\, GA\, 30071
CATEGORIES:Healthcare Resources
END:VEVENT
BEGIN:VEVENT
DTSTART;TZID=America/New_York:20220124T090000
DTEND;TZID=America/New_York:20220124T150000
DTSTAMP:20260424T102540
CREATED:20220114T161928Z
LAST-MODIFIED:20220114T161928Z
UID:11154-1643014800-1643036400@gwinnettcares.org
SUMMARY:COVID-19 Vaccines: Lawrenceville Health Center
DESCRIPTION:Free COVID-19 vaccines are available for walk-ins at the Lawrenceville Health Center Monday through Friday from 9:00 a.m. to 3:00 p.m.
URL:https://gwinnettcares.org/event/covid-19-vaccines-lawrenceville-health-center-9/
LOCATION:Lawrenceville Health Center\, 455 Grayson Highway\, Suite 300\, Lawrenceville\, GA\, 30046
CATEGORIES:Healthcare Resources
END:VEVENT
BEGIN:VEVENT
DTSTART;TZID=America/New_York:20220124T090000
DTEND;TZID=America/New_York:20220124T150000
DTSTAMP:20260424T102540
CREATED:20220114T162014Z
LAST-MODIFIED:20220114T162014Z
UID:11156-1643014800-1643036400@gwinnettcares.org
SUMMARY:COVID-19 Vaccines: Norcross Health Center
DESCRIPTION:Free COVID-19 vaccines are available for walk-ins at the Norcross Health Center Monday through Friday from 9:00 a.m. to 3:00 p.m.
URL:https://gwinnettcares.org/event/covid-19-vaccines-norcross-health-center-9/
LOCATION:Norcross Health Center\, 5030 Georgia Belle Court\, Norcross\, GA\, 30093
CATEGORIES:Healthcare Resources
END:VEVENT
BEGIN:VEVENT
DTSTART;TZID=America/New_York:20220124T090000
DTEND;TZID=America/New_York:20220124T164500
DTSTAMP:20260424T102540
CREATED:20220114T161843Z
LAST-MODIFIED:20220114T161843Z
UID:11152-1643014800-1643042700@gwinnettcares.org
SUMMARY:COVID-19 Vaccines: Gwinnett Place
DESCRIPTION:Free COVID-19 vaccines are available by appointment or for walk-ins inside the former Sears location at Gwinnett Place Mall Monday through Saturday from 9:00 a.m. to 4:45 p.m. Closed from 1-2 pm for lunch. You can schedule an appointment here.
URL:https://gwinnettcares.org/event/covid-19-vaccines-gwinnett-place-11/
LOCATION:Gwinnett Place Mall\, 2100 Pleasant Hill Rd\, Duluth\, GA\, 30096
CATEGORIES:Healthcare Resources
END:VEVENT
BEGIN:VEVENT
DTSTART;TZID=America/New_York:20220124T090000
DTEND;TZID=America/New_York:20220124T170000
DTSTAMP:20260424T102540
CREATED:20220118T202612Z
LAST-MODIFIED:20221213T123323Z
UID:11263-1643014800-1643043600@gwinnettcares.org
SUMMARY:DPH/Viral Solutions Free COVID-19 Testing
DESCRIPTION:This COVID-19 mega testing site is provided thanks to a partnership between Georgia’s Department of Public Health and Viral Solutions. Testing services will be available Monday through Saturday\, 9am to 5pm. The address is 2135 E. Main St.\, Snellville. Appointments can be made here: https://patientportal.advancedmd.com/…/onlines…/existing
URL:https://gwinnettcares.org/event/dph-viral-solutions-free-covid-19-testing-2022-01-24/
LOCATION:DPH Viral Solutions Test Site Snellville\, 2135 E Main Street\, Snellville\, GA\, 30078\, United States
CATEGORIES:Healthcare Resources,Need Help
ATTACH;FMTTYPE=image/png:https://gwinnettcares.org/gwinnettcares/wp-content/uploads/sites/7/2022/01/Screen-Shot-2022-01-18-at-3.16.39-PM.png
END:VEVENT
BEGIN:VEVENT
DTSTART;TZID=America/New_York:20220124T090000
DTEND;TZID=America/New_York:20220124T170000
DTSTAMP:20260424T102540
CREATED:20220118T205010Z
LAST-MODIFIED:20221213T123811Z
UID:12590-1643014800-1643043600@gwinnettcares.org
SUMMARY:DPH/Mako Medical Free COVID-19 Testing
DESCRIPTION:Georgia’s Department of Public Health\, in partnership with Mako Medical\, offers a mega testing site in Gwinnett located in the former Sears building at Gwinnett Place Mall. The address is 2100 Pleasant Hill Road\, Duluth. Testing is available Monday through Saturday from 9 am to 5 pm. Appointments can be scheduled here: https://mako.exchange/splash/GAmakotesting/#test-site-id \nAdditional COVID-19 testing resources can be found at dph.georgia.gov/covidtesting.
URL:https://gwinnettcares.org/event/dph-mako-medical-free-covid-19-testing-2022-01-24/
LOCATION:DPH Mako Medical Test Site Gwinnett Place\, 2100 Pleasant Hill Road\, Duluth\, GA\, 30096\, United States
CATEGORIES:Healthcare Resources,Need Help
ATTACH;FMTTYPE=image/jpeg:https://gwinnettcares.org/gwinnettcares/wp-content/uploads/sites/7/2022/01/image-2.jpeg
END:VEVENT
BEGIN:VEVENT
DTSTART;TZID=America/New_York:20220124T100000
DTEND;TZID=America/New_York:20220124T125500
DTSTAMP:20260424T102540
CREATED:20220114T162055Z
LAST-MODIFIED:20220114T162055Z
UID:11158-1643018400-1643028900@gwinnettcares.org
SUMMARY:COVID-19 Testing: Baitul Ata Mosque
DESCRIPTION:Free COVID-19 testing is available every Monday\, Wednesday\, and Saturday beginning at 10:00 am. The final appointment of the day is at 12:55 pm. Register here.
URL:https://gwinnettcares.org/event/covid-19-testing-baitul-ata-mosque-5/
LOCATION:Baitul Ata Mosque\, 1800 Willow Trail Parkway\, Norcross\, GA
CATEGORIES:Healthcare Resources
END:VEVENT
BEGIN:VEVENT
DTSTART;TZID=America/New_York:20220124T110000
DTEND;TZID=America/New_York:20220124T190000
DTSTAMP:20260424T102540
CREATED:20220114T162155Z
LAST-MODIFIED:20220114T162155Z
UID:11160-1643022000-1643050800@gwinnettcares.org
SUMMARY:Pediatric COVID-19 Vaccines: CHOA Duluth
DESCRIPTION:Children’s Vaccines are here! \nChildren’s Healthcare of Atlanta\, in partnership with COVID Care GA\, are now offering COVID-19 vaccinations for children ages 5 and up in the parking lot of Children’s at Satellite Boulevard. Siblings and caregivers may also be vaccinated. Pre-registration is not required\, but appointments can be made at www.covidcarega.com. Please note\, vaccine availability is subject to change based on supply. \nHours:  \n\nMonday through Saturday\, 11:00 am – 7:00 pm (closed for lunch from 1:00 – 1:30 pm)\nClosed on Sundays
URL:https://gwinnettcares.org/event/pediatric-covid-19-vaccines-choa-duluth-11/
LOCATION:Children’s Healthcare of Atlanta – Satellite Boulevard\, 2660 Satellite Boulevard\, Duluth\, GA\, 30096
CATEGORIES:Healthcare Resources
END:VEVENT
BEGIN:VEVENT
DTSTART;TZID=America/New_York:20220124T120000
DTEND;TZID=America/New_York:20220124T130000
DTSTAMP:20260424T102540
CREATED:20220114T161006Z
LAST-MODIFIED:20220114T161006Z
UID:11148-1643025600-1643029200@gwinnettcares.org
SUMMARY:Women United Advocacy and Policy Training
DESCRIPTION:UWGA Women United Presents: \nVoices for Georgia’s Children Advocacy and Policy Training \nMonday\, January 24\, 12pm-1pm \nUnited Way of Greater Atlanta has aligned its work to focus on Child Well-Being\, and Women United has made an immense impact in bettering the lives of women in our community. Each of us have a voice in advocating for policy that affects the lives of children. Join us for an informative training with Polly McKinney\, Advocacy Director at Voices for Georgia’s Children\, about what UWGA is doing to impact policymaking in our 13-county footprint and how you can help.\nPlease Register for the training here: https://uwga-org.zoom.us/webinar/register/WN_SitlNWYYR0mD0HXXBeOnKA
URL:https://gwinnettcares.org/event/women-united-advocacy-and-policy-training/
LOCATION:GA
CATEGORIES:General
ATTACH;FMTTYPE=image/png:https://gwinnettcares.org/gwinnettcares/wp-content/uploads/sites/7/2022/01/Voices-for-Georgias-Children.png
END:VEVENT
BEGIN:VEVENT
DTSTART;TZID=America/New_York:20220125T080000
DTEND;TZID=America/New_York:20220125T153000
DTSTAMP:20260424T102540
CREATED:20220114T162305Z
LAST-MODIFIED:20220114T162305Z
UID:11162-1643097600-1643124600@gwinnettcares.org
SUMMARY:COVID-19 Vaccines: Good Sam
DESCRIPTION:COVID-19 vaccines are available by appointment or walk-in service at the Good Samaritan Health Center on Buford Highway in Norcross on weekdays at the following times:\n\n\n\n\nMonday – Wednesday\, 8:00 am – 3:30 pm\nThursday\, 12:00 pm – 6:30 pm\nFriday\, 8:00 am – 1:30 pm\n\n\n\n\n\n\nNo Saturday hours are available. Servicios ofrecidos en español. \n\n\n\n\n678-280-6630
URL:https://gwinnettcares.org/event/covid-19-vaccines-good-sam-10/
LOCATION:Good Samaritan Health Center of West Gwinnett\, 5949 Buford Hwy.\, Norcross\, GA\, 30071
CATEGORIES:Healthcare Resources
END:VEVENT
BEGIN:VEVENT
DTSTART;TZID=America/New_York:20220125T090000
DTEND;TZID=America/New_York:20220125T140000
DTSTAMP:20260424T102540
CREATED:20220121T183254Z
LAST-MODIFIED:20220121T183254Z
UID:12946-1643101200-1643119200@gwinnettcares.org
SUMMARY:COVID-19 Vaccines: The Nett Church Lawrenceville
DESCRIPTION:Free COVID-19 vaccines will be available on Tuesday\, January 25\, 2022\, from 9:00 am to 2:00 pm.
URL:https://gwinnettcares.org/event/covid-19-vaccines-the-nett-church-lawrenceville/
LOCATION:The Nett Church (Lawrenceville Campus)\, 444 Bethesda Church Rd\, Lawrenceville\, GA\, 30044\, United States
CATEGORIES:Healthcare Resources
END:VEVENT
BEGIN:VEVENT
DTSTART;TZID=America/New_York:20220125T090000
DTEND;TZID=America/New_York:20220125T150000
DTSTAMP:20260424T102540
CREATED:20220114T162429Z
LAST-MODIFIED:20220114T162429Z
UID:11166-1643101200-1643122800@gwinnettcares.org
SUMMARY:COVID-19 Vaccines: Lawrenceville Health Center
DESCRIPTION:Free COVID-19 vaccines are available for walk-ins at the Lawrenceville Health Center Monday through Friday from 9:00 a.m. to 3:00 p.m.
URL:https://gwinnettcares.org/event/covid-19-vaccines-lawrenceville-health-center-10/
LOCATION:Lawrenceville Health Center\, 455 Grayson Highway\, Suite 300\, Lawrenceville\, GA\, 30046
CATEGORIES:Healthcare Resources
END:VEVENT
BEGIN:VEVENT
DTSTART;TZID=America/New_York:20220125T090000
DTEND;TZID=America/New_York:20220125T150000
DTSTAMP:20260424T102540
CREATED:20220114T162507Z
LAST-MODIFIED:20220114T162507Z
UID:11168-1643101200-1643122800@gwinnettcares.org
SUMMARY:COVID-19 Vaccines: Norcross Health Center
DESCRIPTION:Free COVID-19 vaccines are available for walk-ins at the Norcross Health Center Monday through Friday from 9:00 a.m. to 3:00 p.m.
URL:https://gwinnettcares.org/event/covid-19-vaccines-norcross-health-center-10/
LOCATION:Norcross Health Center\, 5030 Georgia Belle Court\, Norcross\, GA\, 30093
CATEGORIES:Healthcare Resources
END:VEVENT
BEGIN:VEVENT
DTSTART;TZID=America/New_York:20220125T090000
DTEND;TZID=America/New_York:20220125T164500
DTSTAMP:20260424T102540
CREATED:20220114T162349Z
LAST-MODIFIED:20220114T162349Z
UID:11164-1643101200-1643129100@gwinnettcares.org
SUMMARY:COVID-19 Vaccines: Gwinnett Place
DESCRIPTION:Free COVID-19 vaccines are available by appointment or for walk-ins inside the former Sears location at Gwinnett Place Mall Monday through Saturday from 9:00 a.m. to 4:45 p.m. Closed from 1-2 pm for lunch. You can schedule an appointment here.
URL:https://gwinnettcares.org/event/covid-19-vaccines-gwinnett-place-12/
LOCATION:Gwinnett Place Mall\, 2100 Pleasant Hill Rd\, Duluth\, GA\, 30096
CATEGORIES:Healthcare Resources
END:VEVENT
BEGIN:VEVENT
DTSTART;TZID=America/New_York:20220125T090000
DTEND;TZID=America/New_York:20220125T170000
DTSTAMP:20260424T102540
CREATED:20220118T202612Z
LAST-MODIFIED:20221213T123323Z
UID:11264-1643101200-1643130000@gwinnettcares.org
SUMMARY:DPH/Viral Solutions Free COVID-19 Testing
DESCRIPTION:This COVID-19 mega testing site is provided thanks to a partnership between Georgia’s Department of Public Health and Viral Solutions. Testing services will be available Monday through Saturday\, 9am to 5pm. The address is 2135 E. Main St.\, Snellville. Appointments can be made here: https://patientportal.advancedmd.com/…/onlines…/existing
URL:https://gwinnettcares.org/event/dph-viral-solutions-free-covid-19-testing-2022-01-25/
LOCATION:DPH Viral Solutions Test Site Snellville\, 2135 E Main Street\, Snellville\, GA\, 30078\, United States
CATEGORIES:Healthcare Resources,Need Help
ATTACH;FMTTYPE=image/png:https://gwinnettcares.org/gwinnettcares/wp-content/uploads/sites/7/2022/01/Screen-Shot-2022-01-18-at-3.16.39-PM.png
END:VEVENT
BEGIN:VEVENT
DTSTART;TZID=America/New_York:20220125T090000
DTEND;TZID=America/New_York:20220125T170000
DTSTAMP:20260424T102540
CREATED:20220118T205010Z
LAST-MODIFIED:20221213T123812Z
UID:12537-1643101200-1643130000@gwinnettcares.org
SUMMARY:DPH/Mako Medical Free COVID-19 Testing
DESCRIPTION:Georgia’s Department of Public Health\, in partnership with Mako Medical\, offers a mega testing site in Gwinnett located in the former Sears building at Gwinnett Place Mall. The address is 2100 Pleasant Hill Road\, Duluth. Testing is available Monday through Saturday from 9 am to 5 pm. Appointments can be scheduled here: https://mako.exchange/splash/GAmakotesting/#test-site-id \nAdditional COVID-19 testing resources can be found at dph.georgia.gov/covidtesting.
URL:https://gwinnettcares.org/event/dph-mako-medical-free-covid-19-testing-2022-01-25/
LOCATION:DPH Mako Medical Test Site Gwinnett Place\, 2100 Pleasant Hill Road\, Duluth\, GA\, 30096\, United States
CATEGORIES:Healthcare Resources,Need Help
ATTACH;FMTTYPE=image/jpeg:https://gwinnettcares.org/gwinnettcares/wp-content/uploads/sites/7/2022/01/image-2.jpeg
END:VEVENT
END:VCALENDAR