BEGIN:VCALENDAR
VERSION:2.0
PRODID:-//Gwinnett Cares - ECPv6.2.4//NONSGML v1.0//EN
CALSCALE:GREGORIAN
METHOD:PUBLISH
X-WR-CALNAME:Gwinnett Cares
X-ORIGINAL-URL:https://gwinnettcares.org
X-WR-CALDESC:Events for Gwinnett Cares
REFRESH-INTERVAL;VALUE=DURATION:PT1H
X-Robots-Tag:noindex
X-PUBLISHED-TTL:PT1H
BEGIN:VTIMEZONE
TZID:America/New_York
BEGIN:DAYLIGHT
TZOFFSETFROM:-0500
TZOFFSETTO:-0400
TZNAME:EDT
DTSTART:20220313T070000
END:DAYLIGHT
BEGIN:STANDARD
TZOFFSETFROM:-0400
TZOFFSETTO:-0500
TZNAME:EST
DTSTART:20221106T060000
END:STANDARD
END:VTIMEZONE
BEGIN:VEVENT
DTSTART;TZID=America/New_York:20220117T080000
DTEND;TZID=America/New_York:20220117T130000
DTSTAMP:20260421T223223
CREATED:20220114T175900Z
LAST-MODIFIED:20220114T175900Z
UID:11228-1642406400-1642424400@gwinnettcares.org
SUMMARY:MLK Jr. Days of Service
DESCRIPTION:Volunteer Gwinnett kicks off an exciting year of service projects for our community this weekend with park beautification\, river cleanup and storm drain marking efforts. Come out on Saturday\, January 15th and Monday\, January 17th and be a positive force for good in honor of Martin Luther King Jr.’s birthday. \nGet the full details here. \nRegister here.
URL:https://gwinnettcares.org/event/mlk-jr-days-of-service/
LOCATION:GA
CATEGORIES:Want to Help
END:VEVENT
BEGIN:VEVENT
DTSTART;TZID=America/New_York:20220117T080000
DTEND;TZID=America/New_York:20220117T153000
DTSTAMP:20260421T223223
CREATED:20220113T160952Z
LAST-MODIFIED:20220113T160952Z
UID:10992-1642406400-1642433400@gwinnettcares.org
SUMMARY:COVID-19 Vaccines: Good Sam
DESCRIPTION:COVID-19 vaccines are available by appointment or walk-in service at the Good Samaritan Health Center on Buford Highway in Norcross on weekdays at the following times:\n\n\n\n\nMonday – Wednesday\, 8:00 am – 3:30 pm\nThursday\, 12:00 pm – 6:30 pm\nFriday\, 8:00 am – 1:30 pm\n\n\n\n\n\n\nNo Saturday hours are available. Servicios ofrecidos en español. \n\n\n\n\n678-280-6630
URL:https://gwinnettcares.org/event/covid-19-vaccines-good-sam-4/
LOCATION:Good Samaritan Health Center of West Gwinnett\, 5949 Buford Hwy.\, Norcross\, GA\, 30071
CATEGORIES:Healthcare Resources
END:VEVENT
BEGIN:VEVENT
DTSTART;TZID=America/New_York:20220117T090000
DTEND;TZID=America/New_York:20220117T150000
DTSTAMP:20260421T223223
CREATED:20220113T161248Z
LAST-MODIFIED:20220113T161248Z
UID:10996-1642410000-1642431600@gwinnettcares.org
SUMMARY:COVID-19 Vaccines: Lawrenceville Health Center
DESCRIPTION:Free COVID-19 vaccines are available for walk-ins at the Lawrenceville Health Center Monday through Friday from 9:00 a.m. to 3:00 p.m.
URL:https://gwinnettcares.org/event/covid-19-vaccines-lawrenceville-health-center-4/
LOCATION:Lawrenceville Health Center\, 455 Grayson Highway\, Suite 300\, Lawrenceville\, GA\, 30046
CATEGORIES:Healthcare Resources
END:VEVENT
BEGIN:VEVENT
DTSTART;TZID=America/New_York:20220117T090000
DTEND;TZID=America/New_York:20220117T150000
DTSTAMP:20260421T223223
CREATED:20220113T161331Z
LAST-MODIFIED:20220113T161331Z
UID:10998-1642410000-1642431600@gwinnettcares.org
SUMMARY:COVID-19 Vaccines: Norcross Health Center
DESCRIPTION:Free COVID-19 vaccines are available for walk-ins at the Norcross Health Center Monday through Friday from 9:00 a.m. to 3:00 p.m.
URL:https://gwinnettcares.org/event/covid-19-vaccines-norcross-health-center-4/
LOCATION:Norcross Health Center\, 5030 Georgia Belle Court\, Norcross\, GA\, 30093
CATEGORIES:Healthcare Resources
END:VEVENT
BEGIN:VEVENT
DTSTART;TZID=America/New_York:20220117T090000
DTEND;TZID=America/New_York:20220117T164500
DTSTAMP:20260421T223223
CREATED:20220113T161205Z
LAST-MODIFIED:20220113T161205Z
UID:10994-1642410000-1642437900@gwinnettcares.org
SUMMARY:COVID-19 Vaccines: Gwinnett Place
DESCRIPTION:Free COVID-19 vaccines are available by appointment or for walk-ins inside the former Sears location at Gwinnett Place Mall Monday through Saturday from 9:00 a.m. to 4:45 p.m. Closed from 1-2 pm for lunch. You can schedule an appointment here.
URL:https://gwinnettcares.org/event/covid-19-vaccines-gwinnett-place-5/
LOCATION:Gwinnett Place Mall\, 2100 Pleasant Hill Rd\, Duluth\, GA\, 30096
CATEGORIES:Healthcare Resources
END:VEVENT
BEGIN:VEVENT
DTSTART;TZID=America/New_York:20220117T100000
DTEND;TZID=America/New_York:20220117T125500
DTSTAMP:20260421T223223
CREATED:20220113T161419Z
LAST-MODIFIED:20220113T161419Z
UID:11000-1642413600-1642424100@gwinnettcares.org
SUMMARY:COVID-19 Testing: Baitul Ata Mosque
DESCRIPTION:Free COVID-19 testing is available every Monday\, Wednesday\, and Saturday beginning at 10:00 am. The final appointment of the day is at 12:55 pm. Register here.
URL:https://gwinnettcares.org/event/covid-19-testing-baitul-ata-mosque-2/
LOCATION:Baitul Ata Mosque\, 1800 Willow Trail Parkway\, Norcross\, GA
CATEGORIES:Healthcare Resources
END:VEVENT
BEGIN:VEVENT
DTSTART;TZID=America/New_York:20220117T110000
DTEND;TZID=America/New_York:20220117T190000
DTSTAMP:20260421T223223
CREATED:20220113T161509Z
LAST-MODIFIED:20220113T161509Z
UID:11002-1642417200-1642446000@gwinnettcares.org
SUMMARY:Pediatric COVID-19 Vaccines: CHOA Duluth
DESCRIPTION:Children’s Vaccines are here! \nChildren’s Healthcare of Atlanta\, in partnership with COVID Care GA\, are now offering COVID-19 vaccinations for children ages 5 and up in the parking lot of Children’s at Satellite Boulevard. Siblings and caregivers may also be vaccinated. Pre-registration is not required\, but appointments can be made at www.covidcarega.com. Please note\, vaccine availability is subject to change based on supply. \nHours:  \n\nMonday through Saturday\, 11:00 am – 7:00 pm (closed for lunch from 1:00 – 1:30 pm)\nClosed on Sundays
URL:https://gwinnettcares.org/event/pediatric-covid-19-vaccines-choa-duluth-5/
LOCATION:Children’s Healthcare of Atlanta – Satellite Boulevard\, 2660 Satellite Boulevard\, Duluth\, GA\, 30096
CATEGORIES:Healthcare Resources
END:VEVENT
END:VCALENDAR